BEGIN:VCALENDAR
VERSION:2.0
PRODID:-//DGMSR e.V. - ECPv6.13.2.1//NONSGML v1.0//EN
CALSCALE:GREGORIAN
METHOD:PUBLISH
X-WR-CALNAME:DGMSR e.V.
X-ORIGINAL-URL:https://www.dgmsr.de
X-WR-CALDESC:Veranstaltungen für DGMSR e.V.
REFRESH-INTERVAL;VALUE=DURATION:PT1H
X-Robots-Tag:noindex
X-PUBLISHED-TTL:PT1H
BEGIN:VTIMEZONE
TZID:Europe/Berlin
BEGIN:DAYLIGHT
TZOFFSETFROM:+0100
TZOFFSETTO:+0200
TZNAME:CEST
DTSTART:20210328T010000
END:DAYLIGHT
BEGIN:STANDARD
TZOFFSETFROM:+0200
TZOFFSETTO:+0100
TZNAME:CET
DTSTART:20211031T010000
END:STANDARD
END:VTIMEZONE
BEGIN:VTIMEZONE
TZID:Europe/Helsinki
BEGIN:DAYLIGHT
TZOFFSETFROM:+0200
TZOFFSETTO:+0300
TZNAME:EEST
DTSTART:20180325T010000
END:DAYLIGHT
BEGIN:STANDARD
TZOFFSETFROM:+0300
TZOFFSETTO:+0200
TZNAME:EET
DTSTART:20181028T010000
END:STANDARD
BEGIN:DAYLIGHT
TZOFFSETFROM:+0200
TZOFFSETTO:+0300
TZNAME:EEST
DTSTART:20190331T010000
END:DAYLIGHT
BEGIN:STANDARD
TZOFFSETFROM:+0300
TZOFFSETTO:+0200
TZNAME:EET
DTSTART:20191027T010000
END:STANDARD
END:VTIMEZONE
BEGIN:VEVENT
DTSTART;TZID=Europe/Berlin:20210723T080000
DTEND;TZID=Europe/Berlin:20210724T170000
DTSTAMP:20260422T181837
CREATED:20210304T144904Z
LAST-MODIFIED:20210304T144904Z
UID:10000210-1627027200-1627146000@www.dgmsr.de
SUMMARY:ESSR Sports Imaging Course / 4th Rostock Summer School 2021
DESCRIPTION:
URL:https://www.dgmsr.de/event/essr-sports-imaging-course-4th-rostock-summer-school-2021/
LOCATION:Universität Rostock\, Ernst-Heydemann-Straße 8\, Rostock\, 18057\, Deutschland
GEO:54.0830346;12.1036582
X-APPLE-STRUCTURED-LOCATION;VALUE=URI;X-ADDRESS=Universität Rostock Ernst-Heydemann-Straße 8 Rostock 18057 Deutschland;X-APPLE-RADIUS=500;X-TITLE=Ernst-Heydemann-Straße 8:geo:12.1036582,54.0830346
END:VEVENT
BEGIN:VEVENT
DTSTART;TZID=Europe/Helsinki:20190705T080000
DTEND;TZID=Europe/Helsinki:20190706T170000
DTSTAMP:20260422T181837
CREATED:20190123T171619Z
LAST-MODIFIED:20190225T090852Z
UID:10000197-1562313600-1562432400@www.dgmsr.de
SUMMARY:2nd ESSR Rostock Summer School on Musculoskeletal Cross Sectional Imaging 2019
DESCRIPTION:
URL:https://www.dgmsr.de/event/2nd-essr-rostock-summer-school-on-musculoskeletal-cross-sectional-imaging-2019/
LOCATION:Universität Rostock\, Ernst-Heydemann-Straße 8\, Rostock\, 18057\, Deutschland
ORGANIZER;CN="ESSR":MAILTO:office@essr.org
GEO:54.0830346;12.1036582
X-APPLE-STRUCTURED-LOCATION;VALUE=URI;X-ADDRESS=Universität Rostock Ernst-Heydemann-Straße 8 Rostock 18057 Deutschland;X-APPLE-RADIUS=500;X-TITLE=Ernst-Heydemann-Straße 8:geo:12.1036582,54.0830346
END:VEVENT
BEGIN:VEVENT
DTSTART;VALUE=DATE:20180713
DTEND;VALUE=DATE:20180715
DTSTAMP:20260422T181837
CREATED:20180115T112038Z
LAST-MODIFIED:20180115T112038Z
UID:10000172-1531440000-1531612799@www.dgmsr.de
SUMMARY:Rostock Summer School
DESCRIPTION:
URL:https://www.dgmsr.de/event/rostock-summer-school/
LOCATION:Universität Rostock\, Ernst-Heydemann-Straße 8\, Rostock\, 18057\, Deutschland
GEO:54.0830346;12.1036582
X-APPLE-STRUCTURED-LOCATION;VALUE=URI;X-ADDRESS=Universität Rostock Ernst-Heydemann-Straße 8 Rostock 18057 Deutschland;X-APPLE-RADIUS=500;X-TITLE=Ernst-Heydemann-Straße 8:geo:12.1036582,54.0830346
END:VEVENT
END:VCALENDAR