BEGIN:VCALENDAR
VERSION:2.0
PRODID:-//DGMSR e.V. - ECPv6.13.2.1//NONSGML v1.0//EN
CALSCALE:GREGORIAN
METHOD:PUBLISH
X-WR-CALNAME:DGMSR e.V.
X-ORIGINAL-URL:https://www.dgmsr.de
X-WR-CALDESC:Veranstaltungen für DGMSR e.V.
REFRESH-INTERVAL;VALUE=DURATION:PT1H
X-Robots-Tag:noindex
X-PUBLISHED-TTL:PT1H
BEGIN:VTIMEZONE
TZID:Europe/Berlin
BEGIN:DAYLIGHT
TZOFFSETFROM:+0100
TZOFFSETTO:+0200
TZNAME:CEST
DTSTART:20250330T010000
END:DAYLIGHT
BEGIN:STANDARD
TZOFFSETFROM:+0200
TZOFFSETTO:+0100
TZNAME:CET
DTSTART:20251026T010000
END:STANDARD
END:VTIMEZONE
BEGIN:VEVENT
DTSTART;TZID=Europe/Berlin:20250524T080000
DTEND;TZID=Europe/Berlin:20250524T160000
DTSTAMP:20260422T214506
CREATED:20250217T105612Z
LAST-MODIFIED:20250217T105612Z
UID:10000303-1748073600-1748102400@www.dgmsr.de
SUMMARY:SSSR Educational Meeting - Hand & Wrist
DESCRIPTION:
URL:https://www.dgmsr.de/event/sssr-educational-meeting-hand-wrist/
LOCATION:Universität Lucern\, Frohburgstrasse 3\, Luzern\, Luzern-Stadt\, 6003\, Switzerland
GEO:47.0494368;8.3123409
X-APPLE-STRUCTURED-LOCATION;VALUE=URI;X-ADDRESS=Universität Lucern Frohburgstrasse 3 Luzern Luzern-Stadt 6003 Switzerland;X-APPLE-RADIUS=500;X-TITLE=Frohburgstrasse 3:geo:8.3123409,47.0494368
END:VEVENT
END:VCALENDAR