BEGIN:VCALENDAR
VERSION:2.0
PRODID:-//DGMSR e.V. - ECPv6.13.2.1//NONSGML v1.0//EN
CALSCALE:GREGORIAN
METHOD:PUBLISH
X-WR-CALNAME:DGMSR e.V.
X-ORIGINAL-URL:https://www.dgmsr.de
X-WR-CALDESC:Veranstaltungen für DGMSR e.V.
REFRESH-INTERVAL;VALUE=DURATION:PT1H
X-Robots-Tag:noindex
X-PUBLISHED-TTL:PT1H
BEGIN:VTIMEZONE
TZID:Europe/Berlin
BEGIN:DAYLIGHT
TZOFFSETFROM:+0100
TZOFFSETTO:+0200
TZNAME:CEST
DTSTART:20230326T010000
END:DAYLIGHT
BEGIN:STANDARD
TZOFFSETFROM:+0200
TZOFFSETTO:+0100
TZNAME:CET
DTSTART:20231029T010000
END:STANDARD
END:VTIMEZONE
BEGIN:VEVENT
DTSTART;TZID=Europe/Berlin:20231007T080000
DTEND;TZID=Europe/Berlin:20231013T170000
DTSTAMP:20260424T150530
CREATED:20220117T074334Z
LAST-MODIFIED:20230531T160514Z
UID:10000230-1696665600-1697216400@www.dgmsr.de
SUMMARY:ALL MSK Meeting
DESCRIPTION:hosted by the ISS and including all international MSK specialty societies. \n*ermäßigte Teilnahmegebühr für DGMSR Mitglieder
URL:https://www.dgmsr.de/event/all-msk-meeting/
LOCATION:Queen Elizabeth II Convention Center\, London\, Großbritannien (Vereinigtes Königreich)
ORGANIZER;CN="International Skeletal Society":MAILTO:info@internationalskeletalsociety.com
GEO:51.5072178;-0.1275862
END:VEVENT
END:VCALENDAR