BEGIN:VCALENDAR
VERSION:2.0
PRODID:-//DGMSR e.V. - ECPv6.13.2.1//NONSGML v1.0//EN
CALSCALE:GREGORIAN
METHOD:PUBLISH
X-ORIGINAL-URL:https://www.dgmsr.de
X-WR-CALDESC:Veranstaltungen für DGMSR e.V.
REFRESH-INTERVAL;VALUE=DURATION:PT1H
X-Robots-Tag:noindex
X-PUBLISHED-TTL:PT1H
BEGIN:VTIMEZONE
TZID:Europe/Berlin
BEGIN:DAYLIGHT
TZOFFSETFROM:+0100
TZOFFSETTO:+0200
TZNAME:CEST
DTSTART:20230326T010000
END:DAYLIGHT
BEGIN:STANDARD
TZOFFSETFROM:+0200
TZOFFSETTO:+0100
TZNAME:CET
DTSTART:20231029T010000
END:STANDARD
END:VTIMEZONE
BEGIN:VEVENT
DTSTART;TZID=Europe/Berlin:20230918T080000
DTEND;TZID=Europe/Berlin:20230922T170000
DTSTAMP:20260423T044521
CREATED:20230802T160519Z
LAST-MODIFIED:20230802T160724Z
UID:10000256-1695024000-1695402000@www.dgmsr.de
SUMMARY:MSK comprehensive Erasmus course
DESCRIPTION:
URL:https://www.dgmsr.de/event/msk-comprehensive-erasmus-course/
LOCATION:Pullman Riga\, Jekaba Iela 24\, Riga\, Latvija\, Lettland
ORGANIZER;CN="EMRI":MAILTO:emri.riga@gmail.com
GEO:56.9522262;24.1054949
X-APPLE-STRUCTURED-LOCATION;VALUE=URI;X-ADDRESS=Pullman Riga Jekaba Iela 24 Riga Latvija Lettland;X-APPLE-RADIUS=500;X-TITLE=Jekaba Iela 24:geo:24.1054949,56.9522262
END:VEVENT
END:VCALENDAR