BEGIN:VCALENDAR
VERSION:2.0
PRODID:-//DGMSR e.V. - ECPv6.13.2.1//NONSGML v1.0//EN
CALSCALE:GREGORIAN
METHOD:PUBLISH
X-ORIGINAL-URL:https://www.dgmsr.de
X-WR-CALDESC:Veranstaltungen für DGMSR e.V.
REFRESH-INTERVAL;VALUE=DURATION:PT1H
X-Robots-Tag:noindex
X-PUBLISHED-TTL:PT1H
BEGIN:VTIMEZONE
TZID:Europe/Berlin
BEGIN:DAYLIGHT
TZOFFSETFROM:+0100
TZOFFSETTO:+0200
TZNAME:CEST
DTSTART:20200329T010000
END:DAYLIGHT
BEGIN:STANDARD
TZOFFSETFROM:+0200
TZOFFSETTO:+0100
TZNAME:CET
DTSTART:20201025T010000
END:STANDARD
BEGIN:DAYLIGHT
TZOFFSETFROM:+0100
TZOFFSETTO:+0200
TZNAME:CEST
DTSTART:20210328T010000
END:DAYLIGHT
BEGIN:STANDARD
TZOFFSETFROM:+0200
TZOFFSETTO:+0100
TZNAME:CET
DTSTART:20211031T010000
END:STANDARD
BEGIN:DAYLIGHT
TZOFFSETFROM:+0100
TZOFFSETTO:+0200
TZNAME:CEST
DTSTART:20220327T010000
END:DAYLIGHT
BEGIN:STANDARD
TZOFFSETFROM:+0200
TZOFFSETTO:+0100
TZNAME:CET
DTSTART:20221030T010000
END:STANDARD
BEGIN:DAYLIGHT
TZOFFSETFROM:+0100
TZOFFSETTO:+0200
TZNAME:CEST
DTSTART:20230326T010000
END:DAYLIGHT
BEGIN:STANDARD
TZOFFSETFROM:+0200
TZOFFSETTO:+0100
TZNAME:CET
DTSTART:20231029T010000
END:STANDARD
END:VTIMEZONE
BEGIN:VTIMEZONE
TZID:Europe/Helsinki
BEGIN:DAYLIGHT
TZOFFSETFROM:+0200
TZOFFSETTO:+0300
TZNAME:EEST
DTSTART:20200329T010000
END:DAYLIGHT
BEGIN:STANDARD
TZOFFSETFROM:+0300
TZOFFSETTO:+0200
TZNAME:EET
DTSTART:20201025T010000
END:STANDARD
BEGIN:DAYLIGHT
TZOFFSETFROM:+0200
TZOFFSETTO:+0300
TZNAME:EEST
DTSTART:20210328T010000
END:DAYLIGHT
BEGIN:STANDARD
TZOFFSETFROM:+0300
TZOFFSETTO:+0200
TZNAME:EET
DTSTART:20211031T010000
END:STANDARD
END:VTIMEZONE
BEGIN:VEVENT
DTSTART;TZID=Europe/Berlin:20231104T080000
DTEND;TZID=Europe/Berlin:20231105T170000
DTSTAMP:20260422T233355
CREATED:20221117T132346Z
LAST-MODIFIED:20221117T132346Z
UID:10000244-1699084800-1699203600@www.dgmsr.de
SUMMARY:MRT Diagnostik muskuloskelettales System (Basiskurs)
DESCRIPTION:Live-Webinar
URL:https://www.dgmsr.de/event/mrt-diagnostik-muskuloskelettales-system-basiskurs/
LOCATION:online / onsite
ORGANIZER;CN="R%C3%B6ntgendiagnostische Fortbildung Neuss":MAILTO:info@roentgenneuss.de
END:VEVENT
BEGIN:VEVENT
DTSTART;TZID=Europe/Berlin:20230422T080000
DTEND;TZID=Europe/Berlin:20230423T170000
DTSTAMP:20260422T233355
CREATED:20221117T132501Z
LAST-MODIFIED:20221117T132501Z
UID:10000245-1682150400-1682269200@www.dgmsr.de
SUMMARY:Rheumatologie (Bildgebung)
DESCRIPTION:Live-Webinar
URL:https://www.dgmsr.de/event/rheumatologie-bildgebung/
LOCATION:online / onsite
ORGANIZER;CN="R%C3%B6ntgendiagnostische Fortbildung Neuss":MAILTO:info@roentgenneuss.de
END:VEVENT
BEGIN:VEVENT
DTSTART;TZID=Europe/Berlin:20230422T080000
DTEND;TZID=Europe/Berlin:20230423T170000
DTSTAMP:20260422T233355
CREATED:20221117T132229Z
LAST-MODIFIED:20221117T132229Z
UID:10000243-1682150400-1682269200@www.dgmsr.de
SUMMARY:MRT Diagnostik muskuloskelettales System für Fortgeschrittene
DESCRIPTION:Live-Webinar
URL:https://www.dgmsr.de/event/mrt-diagnostik-muskuloskelettales-system-fuer-fortgeschrittene-2/
LOCATION:online / onsite
ORGANIZER;CN="R%C3%B6ntgendiagnostische Fortbildung Neuss":MAILTO:info@roentgenneuss.de
END:VEVENT
BEGIN:VEVENT
DTSTART;TZID=Europe/Berlin:20230204T080000
DTEND;TZID=Europe/Berlin:20230205T170000
DTSTAMP:20260422T233355
CREATED:20221117T132036Z
LAST-MODIFIED:20221117T132115Z
UID:10000242-1675497600-1675616400@www.dgmsr.de
SUMMARY:MRT Diagnostik muskuloskelettales System für Fortgeschrittene
DESCRIPTION:Live-Webinar
URL:https://www.dgmsr.de/event/mrt-diagnostik-muskuloskelettales-system-fuer-fortgeschrittene/
LOCATION:online / onsite
ORGANIZER;CN="R%C3%B6ntgendiagnostische Fortbildung Neuss":MAILTO:info@roentgenneuss.de
END:VEVENT
BEGIN:VEVENT
DTSTART;TZID=Europe/Berlin:20230121T080000
DTEND;TZID=Europe/Berlin:20230122T170000
DTSTAMP:20260422T233355
CREATED:20221104T124615Z
LAST-MODIFIED:20221104T124615Z
UID:10000240-1674288000-1674406800@www.dgmsr.de
SUMMARY:Online Kurs der Röntgendiagnostischen Fortbildung Neuss
DESCRIPTION:MRT muskuloskelettales System
URL:https://www.dgmsr.de/event/online-kurs-der-roentgendiagnostischen-fortbildung-neuss/
LOCATION:online / onsite
ORGANIZER;CN="R%C3%B6ntgendiagnostische Fortbildung Neuss":MAILTO:info@roentgenneuss.de
END:VEVENT
BEGIN:VEVENT
DTSTART;VALUE=DATE:20221125
DTEND;VALUE=DATE:20221126
DTSTAMP:20260422T233355
CREATED:20220727T080027Z
LAST-MODIFIED:20220727T080027Z
UID:10000236-1669334400-1669420799@www.dgmsr.de
SUMMARY:MR-Arthrographie Basiskurs
DESCRIPTION:
URL:https://www.dgmsr.de/event/mr-arthrographie-basiskurs/
LOCATION:online / onsite
ORGANIZER;CN="Universit%C3%A4t Z%C3%BCrich":MAILTO:erich.torreiter@usz
END:VEVENT
BEGIN:VEVENT
DTSTART;TZID=Europe/Berlin:20221112T080000
DTEND;TZID=Europe/Berlin:20221113T170000
DTSTAMP:20260422T233355
CREATED:20221117T134634Z
LAST-MODIFIED:20221117T134634Z
UID:10000247-1668240000-1668358800@www.dgmsr.de
SUMMARY:MRT Diagnostik Muskuloskelettales System Basiskurs
DESCRIPTION:Online-Wochenendkurs
URL:https://www.dgmsr.de/event/mrt-diagnostik-muskuloskelettales-system-basiskurs-2/
LOCATION:online / onsite
ORGANIZER;CN="R%C3%B6ntgendiagnostische Fortbildung Neuss":MAILTO:info@roentgenneuss.de
END:VEVENT
BEGIN:VEVENT
DTSTART;TZID=Europe/Berlin:20221112T080000
DTEND;TZID=Europe/Berlin:20221113T170000
DTSTAMP:20260422T233355
CREATED:20211223T073236Z
LAST-MODIFIED:20221117T131753Z
UID:10000228-1668240000-1668358800@www.dgmsr.de
SUMMARY:Wochenendkurs Rheumatologie
DESCRIPTION:Online
URL:https://www.dgmsr.de/event/wochenendkurs-mrt-diagnostik-muskuloskelettales-system-basiskurs-3/
LOCATION:online / onsite
ORGANIZER;CN="R%C3%B6ntgendiagnostische Fortbildung Neuss":MAILTO:info@roentgenneuss.de
END:VEVENT
BEGIN:VEVENT
DTSTART;TZID=Europe/Berlin:20220212T080000
DTEND;TZID=Europe/Berlin:20220213T170000
DTSTAMP:20260422T233355
CREATED:20211223T072859Z
LAST-MODIFIED:20211223T073113Z
UID:10000226-1644652800-1644771600@www.dgmsr.de
SUMMARY:Basiskurs MRT Diagnostik Muskuloskelettales System
DESCRIPTION:ONLINE
URL:https://www.dgmsr.de/event/basiskurs-mrt-diagnostik-muskuloskelettales-system/
LOCATION:online / onsite
ORGANIZER;CN="R%C3%B6ntgendiagnostische Fortbildung Neuss":MAILTO:info@roentgenneuss.de
END:VEVENT
BEGIN:VEVENT
DTSTART;TZID=Europe/Berlin:20211112T083000
DTEND;TZID=Europe/Berlin:20211112T153000
DTSTAMP:20260422T233355
CREATED:20210527T083109Z
LAST-MODIFIED:20210527T083109Z
UID:10000216-1636705800-1636731000@www.dgmsr.de
SUMMARY:Basiskurs MR-Arthrographie
DESCRIPTION:
URL:https://www.dgmsr.de/event/basiskurs-mr-arthrographie/
LOCATION:online / onsite
END:VEVENT
BEGIN:VEVENT
DTSTART;TZID=Europe/Helsinki:20210423T090000
DTEND;TZID=Europe/Helsinki:20210424T170000
DTSTAMP:20260422T233355
CREATED:20190123T112503Z
LAST-MODIFIED:20210420T074959Z
UID:10000196-1619168400-1619283600@www.dgmsr.de
SUMMARY:7. Jahrestagung der DGMSR
DESCRIPTION:DGMSR 2021 goes virtual II
URL:https://www.dgmsr.de/event/7-jahrestagung-der-dgmsr/
LOCATION:online / onsite
ORGANIZER;CN="DGMSR":MAILTO:info@dgmsr.de
END:VEVENT
BEGIN:VEVENT
DTSTART;TZID=Europe/Berlin:20210310T080000
DTEND;TZID=Europe/Berlin:20210313T170000
DTSTAMP:20260422T233355
CREATED:20210219T093222Z
LAST-MODIFIED:20210219T093222Z
UID:10000209-1615363200-1615654800@www.dgmsr.de
SUMMARY:European Course on Spine Radiology
DESCRIPTION:
URL:https://www.dgmsr.de/event/european-course-on-spine-radiology/
LOCATION:online / onsite
ORGANIZER;CN="ESSR":MAILTO:office@essr.org
END:VEVENT
BEGIN:VEVENT
DTSTART;TZID=Europe/Berlin:20210222T083000
DTEND;TZID=Europe/Berlin:20210223T170000
DTSTAMP:20260422T233355
CREATED:20201109T123503Z
LAST-MODIFIED:20201119T163706Z
UID:10000208-1613982600-1614099600@www.dgmsr.de
SUMMARY:Online-Workshop für Weiterbildungsassistenten im Fach Radiologie
DESCRIPTION:Essentials der Radiologie des Skeletts und der Gelenke\, Teil I
URL:https://www.dgmsr.de/event/online-workshop-fuer-weiterbildungsassistenten-im-fach-radiologie/
LOCATION:online / onsite
END:VEVENT
BEGIN:VEVENT
DTSTART;TZID=Europe/Berlin:20201019T074500
DTEND;TZID=Europe/Berlin:20201020T170000
DTSTAMP:20260422T233355
CREATED:20200512T083220Z
LAST-MODIFIED:20200512T083220Z
UID:10000143-1603093500-1603213200@www.dgmsr.de
SUMMARY:Online Workshop für Weiterbildungsassistenten/Innen im Fach Radiologie
DESCRIPTION:Essentials der Radiologie des Skeletts und der Gelenke\, Teil I
URL:https://www.dgmsr.de/event/online-workshop-fuer-weiterbildungsassistenten-innen-im-fach-radiologie/
LOCATION:online / onsite
END:VEVENT
BEGIN:VEVENT
DTSTART;TZID=Europe/Berlin:20200829T093000
DTEND;TZID=Europe/Berlin:20200829T141500
DTSTAMP:20260422T233355
CREATED:20200102T135940Z
LAST-MODIFIED:20200608T124000Z
UID:10000135-1598693400-1598710500@www.dgmsr.de
SUMMARY:ESSR Sports Imaging Course and 3rd Rostock Summer School
DESCRIPTION:Musculoskeletal Cross Sectional Imaging 2020 goes virtual\nZertifizierung ÄK-MV mit 22 CME-Punkten.
URL:https://www.dgmsr.de/event/essr-sports-imaging-course-and-3rd-rostock-summer-school/
LOCATION:online / onsite
END:VEVENT
BEGIN:VEVENT
DTSTART;TZID=Europe/Berlin:20200822T085000
DTEND;TZID=Europe/Berlin:20200822T170000
DTSTAMP:20260422T233355
CREATED:20200318T115722Z
LAST-MODIFIED:20200525T170458Z
UID:10000142-1598086200-1598115600@www.dgmsr.de
SUMMARY:Balgrist MR Kurs der Gelenke
DESCRIPTION:
URL:https://www.dgmsr.de/event/balgrist-mr-kurs-der-gelenke/
LOCATION:online / onsite
ORGANIZER;CN="Universit%C3%A4t Balgrist":MAILTO:kongresse@balgrist.ch
END:VEVENT
BEGIN:VEVENT
DTSTART;TZID=Europe/Helsinki:20200625T080000
DTEND;TZID=Europe/Helsinki:20200627T170000
DTSTAMP:20260422T233355
CREATED:20191025T080343Z
LAST-MODIFIED:20200617T154904Z
UID:10000199-1593072000-1593277200@www.dgmsr.de
SUMMARY:ESSR 2020 Virtual Meeting
DESCRIPTION:Alle Infos zur Registratur und CME befinden sich unter folgendem LinK. www.essr.org/congress/essr-2020
URL:https://www.dgmsr.de/event/essr-annual-meeting/
LOCATION:online / onsite
ORGANIZER;CN="ESSR":MAILTO:office@essr.org
END:VEVENT
BEGIN:VEVENT
DTSTART;TZID=Europe/Berlin:20200523T090000
DTEND;TZID=Europe/Berlin:20200523T170000
DTSTAMP:20260422T233355
CREATED:20200203T082217Z
LAST-MODIFIED:20200520T220059Z
UID:10000137-1590224400-1590253200@www.dgmsr.de
SUMMARY:MSK kikk
DESCRIPTION:kurz-intensiv-kompakt-kompetent \nDie Veranstaltung findet virtuell statt \nzertifiziert mit 8 Fortbildungspunkten der Kat. A \nOnline-Anmeldung
URL:https://www.dgmsr.de/event/msk-kikk/
LOCATION:online / onsite
ORGANIZER;CN="DGMSR":MAILTO:info@dgmsr.de
END:VEVENT
BEGIN:VEVENT
DTSTART;TZID=Europe/Helsinki:20200424T090000
DTEND;TZID=Europe/Helsinki:20200425T160000
DTSTAMP:20260422T233355
CREATED:20190123T112351Z
LAST-MODIFIED:20200423T111724Z
UID:10000195-1587718800-1587830400@www.dgmsr.de
SUMMARY:6. Jahrestagung der DGMSR
DESCRIPTION:Die Jahrestagung 2020 findet online statt.
URL:https://www.dgmsr.de/event/6-jahrestagung-der-dgmsr/
LOCATION:online / onsite
ORGANIZER;CN="DGMSR":MAILTO:info@dgmsr.de
END:VEVENT
END:VCALENDAR