BEGIN:VCALENDAR
VERSION:2.0
PRODID:-//DGMSR e.V. - ECPv6.13.2.1//NONSGML v1.0//EN
CALSCALE:GREGORIAN
METHOD:PUBLISH
X-ORIGINAL-URL:https://www.dgmsr.de
X-WR-CALDESC:Veranstaltungen für DGMSR e.V.
REFRESH-INTERVAL;VALUE=DURATION:PT1H
X-Robots-Tag:noindex
X-PUBLISHED-TTL:PT1H
BEGIN:VTIMEZONE
TZID:Europe/Berlin
BEGIN:DAYLIGHT
TZOFFSETFROM:+0100
TZOFFSETTO:+0200
TZNAME:CEST
DTSTART:20230326T010000
END:DAYLIGHT
BEGIN:STANDARD
TZOFFSETFROM:+0200
TZOFFSETTO:+0100
TZNAME:CET
DTSTART:20231029T010000
END:STANDARD
BEGIN:DAYLIGHT
TZOFFSETFROM:+0100
TZOFFSETTO:+0200
TZNAME:CEST
DTSTART:20240331T010000
END:DAYLIGHT
BEGIN:STANDARD
TZOFFSETFROM:+0200
TZOFFSETTO:+0100
TZNAME:CET
DTSTART:20241027T010000
END:STANDARD
BEGIN:DAYLIGHT
TZOFFSETFROM:+0100
TZOFFSETTO:+0200
TZNAME:CEST
DTSTART:20250330T010000
END:DAYLIGHT
BEGIN:STANDARD
TZOFFSETFROM:+0200
TZOFFSETTO:+0100
TZNAME:CET
DTSTART:20251026T010000
END:STANDARD
END:VTIMEZONE
BEGIN:VEVENT
DTSTART;TZID=Europe/Berlin:20251006T093000
DTEND;TZID=Europe/Berlin:20251010T170000
DTSTAMP:20260422T200351
CREATED:20241008T123107Z
LAST-MODIFIED:20241125T064856Z
UID:10000280-1759743000-1760115600@www.dgmsr.de
SUMMARY:Trainingswoche der DGMSR
DESCRIPTION:Zum Online-Anmeldeformular
URL:https://www.dgmsr.de/event/trainingswoche-der-dgmsr-2/
LOCATION:Hotel Son Caliu Mallorca\, Avenida Son Caliu 8\, Son Caliu\, Calvia\, 07181\, Spanien
ORGANIZER;CN="DGMSR":MAILTO:info@dgmsr.de
GEO:39.5262383;2.5442666
X-APPLE-STRUCTURED-LOCATION;VALUE=URI;X-ADDRESS=Hotel Son Caliu Mallorca Avenida Son Caliu 8 Son Caliu Calvia 07181 Spanien;X-APPLE-RADIUS=500;X-TITLE=Avenida Son Caliu 8:geo:2.5442666,39.5262383
END:VEVENT
BEGIN:VEVENT
DTSTART;TZID=Europe/Berlin:20241007T080000
DTEND;TZID=Europe/Berlin:20241011T170000
DTSTAMP:20260422T200351
CREATED:20231016T140958Z
LAST-MODIFIED:20240412T152229Z
UID:10000261-1728288000-1728666000@www.dgmsr.de
SUMMARY:Trainingswoche der DGSMR
DESCRIPTION:
URL:https://www.dgmsr.de/event/trainingswoche-der-dgsmr/
LOCATION:Hotel Son Caliu Mallorca\, Avenida Son Caliu 8\, Son Caliu\, Calvia\, 07181\, Spanien
ORGANIZER;CN="DGMSR":MAILTO:info@dgmsr.de
GEO:39.5262383;2.5442666
X-APPLE-STRUCTURED-LOCATION;VALUE=URI;X-ADDRESS=Hotel Son Caliu Mallorca Avenida Son Caliu 8 Son Caliu Calvia 07181 Spanien;X-APPLE-RADIUS=500;X-TITLE=Avenida Son Caliu 8:geo:2.5442666,39.5262383
END:VEVENT
BEGIN:VEVENT
DTSTART;TZID=Europe/Berlin:20231009T080000
DTEND;TZID=Europe/Berlin:20231013T170000
DTSTAMP:20260422T200351
CREATED:20221123T151231Z
LAST-MODIFIED:20230226T190049Z
UID:10000175-1696838400-1697216400@www.dgmsr.de
SUMMARY:Trainingskurs der DGMSR
DESCRIPTION:ausgebucht
URL:https://www.dgmsr.de/event/trainingskurs-der-dgmsr/
LOCATION:Hotel Son Caliu Mallorca\, Avenida Son Caliu 8\, Son Caliu\, Calvia\, 07181\, Spanien
ORGANIZER;CN="DGMSR":MAILTO:info@dgmsr.de
GEO:39.5262383;2.5442666
X-APPLE-STRUCTURED-LOCATION;VALUE=URI;X-ADDRESS=Hotel Son Caliu Mallorca Avenida Son Caliu 8 Son Caliu Calvia 07181 Spanien;X-APPLE-RADIUS=500;X-TITLE=Avenida Son Caliu 8:geo:2.5442666,39.5262383
END:VEVENT
END:VCALENDAR