BEGIN:VCALENDAR
VERSION:2.0
PRODID:-//DGMSR e.V. - ECPv6.13.2.1//NONSGML v1.0//EN
CALSCALE:GREGORIAN
METHOD:PUBLISH
X-WR-CALNAME:DGMSR e.V.
X-ORIGINAL-URL:https://www.dgmsr.de
X-WR-CALDESC:Veranstaltungen für DGMSR e.V.
REFRESH-INTERVAL;VALUE=DURATION:PT1H
X-Robots-Tag:noindex
X-PUBLISHED-TTL:PT1H
BEGIN:VTIMEZONE
TZID:Europe/Berlin
BEGIN:DAYLIGHT
TZOFFSETFROM:+0100
TZOFFSETTO:+0200
TZNAME:CEST
DTSTART:20200329T010000
END:DAYLIGHT
BEGIN:STANDARD
TZOFFSETFROM:+0200
TZOFFSETTO:+0100
TZNAME:CET
DTSTART:20201025T010000
END:STANDARD
END:VTIMEZONE
BEGIN:VEVENT
DTSTART;TZID=Europe/Berlin:20201105T090000
DTEND;TZID=Europe/Berlin:20201107T131500
DTSTAMP:20260423T041223
CREATED:20200302T080144Z
LAST-MODIFIED:20200302T080315Z
UID:10000141-1604566800-1604754900@www.dgmsr.de
SUMMARY:Seminar für Skelettradiologie Bremen
DESCRIPTION:Training in Muskuloskelettaler Radiologie
URL:https://www.dgmsr.de/event/seminar-fuer-skelettradiologie-bremen/
LOCATION:Hotel Munte am Stadtwald\, Parkallee 299\, Bremen\, 28213\, Deutschland
ORGANIZER;CN="Dr. Till Spiro":MAILTO:tillspiro@web.de
GEO:53.1042954;8.8409815
X-APPLE-STRUCTURED-LOCATION;VALUE=URI;X-ADDRESS=Hotel Munte am Stadtwald Parkallee 299 Bremen 28213 Deutschland;X-APPLE-RADIUS=500;X-TITLE=Parkallee 299:geo:8.8409815,53.1042954
END:VEVENT
END:VCALENDAR