BEGIN:VCALENDAR
VERSION:2.0
PRODID:-//DGMSR e.V. - ECPv6.13.2.1//NONSGML v1.0//EN
CALSCALE:GREGORIAN
METHOD:PUBLISH
X-ORIGINAL-URL:https://www.dgmsr.de
X-WR-CALDESC:Veranstaltungen für DGMSR e.V.
REFRESH-INTERVAL;VALUE=DURATION:PT1H
X-Robots-Tag:noindex
X-PUBLISHED-TTL:PT1H
BEGIN:VTIMEZONE
TZID:Europe/Berlin
BEGIN:DAYLIGHT
TZOFFSETFROM:+0100
TZOFFSETTO:+0200
TZNAME:CEST
DTSTART:20250330T010000
END:DAYLIGHT
BEGIN:STANDARD
TZOFFSETFROM:+0200
TZOFFSETTO:+0100
TZNAME:CET
DTSTART:20251026T010000
END:STANDARD
END:VTIMEZONE
BEGIN:VEVENT
DTSTART;TZID=Europe/Berlin:20250515T180000
DTEND;TZID=Europe/Berlin:20250515T220000
DTSTAMP:20260422T214725
CREATED:20250130T103116Z
LAST-MODIFIED:20250227T143900Z
UID:10000301-1747332000-1747346400@www.dgmsr.de
SUMMARY:DGMSR – Young Club: Auftaktabend
DESCRIPTION:Zum Programm \nZur Anmeldung \n2 Fortbildungspunkte
URL:https://www.dgmsr.de/event/dgmsr-young-club-auftaktabend/
LOCATION:Hörsaalruine der Charité\, Virchowweg 16\, Berlin\, 10117\, Germany
ORGANIZER;CN="DGMSR":MAILTO:info@dgmsr.de
GEO:52.5260387;13.3747506
X-APPLE-STRUCTURED-LOCATION;VALUE=URI;X-ADDRESS=Hörsaalruine der Charité Virchowweg 16 Berlin 10117 Germany;X-APPLE-RADIUS=500;X-TITLE=Virchowweg 16:geo:13.3747506,52.5260387
END:VEVENT
END:VCALENDAR