BEGIN:VCALENDAR
VERSION:2.0
PRODID:-//DGMSR e.V. - ECPv6.13.2.1//NONSGML v1.0//EN
CALSCALE:GREGORIAN
METHOD:PUBLISH
X-ORIGINAL-URL:https://www.dgmsr.de
X-WR-CALDESC:Veranstaltungen für DGMSR e.V.
REFRESH-INTERVAL;VALUE=DURATION:PT1H
X-Robots-Tag:noindex
X-PUBLISHED-TTL:PT1H
BEGIN:VTIMEZONE
TZID:Europe/Berlin
BEGIN:DAYLIGHT
TZOFFSETFROM:+0100
TZOFFSETTO:+0200
TZNAME:CEST
DTSTART:20210328T010000
END:DAYLIGHT
BEGIN:STANDARD
TZOFFSETFROM:+0200
TZOFFSETTO:+0100
TZNAME:CET
DTSTART:20211031T010000
END:STANDARD
BEGIN:DAYLIGHT
TZOFFSETFROM:+0100
TZOFFSETTO:+0200
TZNAME:CEST
DTSTART:20220327T010000
END:DAYLIGHT
BEGIN:STANDARD
TZOFFSETFROM:+0200
TZOFFSETTO:+0100
TZNAME:CET
DTSTART:20221030T010000
END:STANDARD
END:VTIMEZONE
BEGIN:VTIMEZONE
TZID:Europe/Helsinki
BEGIN:DAYLIGHT
TZOFFSETFROM:+0200
TZOFFSETTO:+0300
TZNAME:EEST
DTSTART:20190331T010000
END:DAYLIGHT
BEGIN:STANDARD
TZOFFSETFROM:+0300
TZOFFSETTO:+0200
TZNAME:EET
DTSTART:20191027T010000
END:STANDARD
END:VTIMEZONE
BEGIN:VEVENT
DTSTART;TZID=Europe/Berlin:20220919T080000
DTEND;TZID=Europe/Berlin:20220923T170000
DTSTAMP:20260424T121451
CREATED:20211112T082730Z
LAST-MODIFIED:20220518T131659Z
UID:10000223-1663574400-1663952400@www.dgmsr.de
SUMMARY:Trainingswoche der DGMSR
DESCRIPTION:
URL:https://www.dgmsr.de/event/trainingswoche-der-dgmsr/
LOCATION:H10 Punta Negra\, Costa Blanes – Mallorca\, Calle Punta Negra\, Mallorca\, C-07181\, Spanien
ORGANIZER;CN="DGMSR":MAILTO:info@dgmsr.de
GEO:39.3333;3.05.
X-APPLE-STRUCTURED-LOCATION;VALUE=URI;X-ADDRESS=H10 Punta Negra Costa Blanes – Mallorca Calle Punta Negra Mallorca C-07181 Spanien;X-APPLE-RADIUS=500;X-TITLE=Calle Punta Negra:geo:3.05.,39.3333
END:VEVENT
BEGIN:VEVENT
DTSTART;TZID=Europe/Berlin:20210927T080000
DTEND;TZID=Europe/Berlin:20211001T170000
DTSTAMP:20260424T121451
CREATED:20210304T145305Z
LAST-MODIFIED:20210928T100542Z
UID:10000211-1632729600-1633107600@www.dgmsr.de
SUMMARY:5. Trainingswoche Muskuloskelettale Radiologie
DESCRIPTION:
URL:https://www.dgmsr.de/event/5-trainingswoche-muskuloskelettale-radiologie/
LOCATION:H10 Punta Negra\, Costa Blanes – Mallorca\, Calle Punta Negra\, Mallorca\, C-07181\, Spanien
ORGANIZER;CN="DGMSR":MAILTO:info@dgmsr.de
GEO:39.3333;3.05.
X-APPLE-STRUCTURED-LOCATION;VALUE=URI;X-ADDRESS=H10 Punta Negra Costa Blanes – Mallorca Calle Punta Negra Mallorca C-07181 Spanien;X-APPLE-RADIUS=500;X-TITLE=Calle Punta Negra:geo:3.05.,39.3333
END:VEVENT
BEGIN:VEVENT
DTSTART;TZID=Europe/Helsinki:20190923T080000
DTEND;TZID=Europe/Helsinki:20190928T170000
DTSTAMP:20260424T121451
CREATED:20181203T121952Z
LAST-MODIFIED:20190507T134410Z
UID:10000185-1569225600-1569690000@www.dgmsr.de
SUMMARY:Trainingswoche Muskuloskelettale Diagnostik
DESCRIPTION:Reservierungsformular Hotel Punta Negra
URL:https://www.dgmsr.de/event/trainingswoche-muskuloskelettale-diagnostik/
LOCATION:H10 Punta Negra\, Costa Blanes – Mallorca\, Calle Punta Negra\, Mallorca\, C-07181\, Spanien
ORGANIZER;CN="DGMSR":MAILTO:info@dgmsr.de
GEO:39.3333;3.05.
X-APPLE-STRUCTURED-LOCATION;VALUE=URI;X-ADDRESS=H10 Punta Negra Costa Blanes – Mallorca Calle Punta Negra Mallorca C-07181 Spanien;X-APPLE-RADIUS=500;X-TITLE=Calle Punta Negra:geo:3.05.,39.3333
END:VEVENT
END:VCALENDAR