BEGIN:VCALENDAR
VERSION:2.0
PRODID:-//DGMSR e.V. - ECPv6.13.2.1//NONSGML v1.0//EN
CALSCALE:GREGORIAN
METHOD:PUBLISH
X-WR-CALNAME:DGMSR e.V.
X-ORIGINAL-URL:https://www.dgmsr.de
X-WR-CALDESC:Veranstaltungen für DGMSR e.V.
REFRESH-INTERVAL;VALUE=DURATION:PT1H
X-Robots-Tag:noindex
X-PUBLISHED-TTL:PT1H
BEGIN:VTIMEZONE
TZID:Europe/Berlin
BEGIN:DAYLIGHT
TZOFFSETFROM:+0100
TZOFFSETTO:+0200
TZNAME:CEST
DTSTART:20220327T010000
END:DAYLIGHT
BEGIN:STANDARD
TZOFFSETFROM:+0200
TZOFFSETTO:+0100
TZNAME:CET
DTSTART:20221030T010000
END:STANDARD
END:VTIMEZONE
BEGIN:VTIMEZONE
TZID:Europe/Helsinki
BEGIN:DAYLIGHT
TZOFFSETFROM:+0200
TZOFFSETTO:+0300
TZNAME:EEST
DTSTART:20170326T010000
END:DAYLIGHT
BEGIN:STANDARD
TZOFFSETFROM:+0300
TZOFFSETTO:+0200
TZNAME:EET
DTSTART:20171029T010000
END:STANDARD
BEGIN:DAYLIGHT
TZOFFSETFROM:+0200
TZOFFSETTO:+0300
TZNAME:EEST
DTSTART:20180325T010000
END:DAYLIGHT
BEGIN:STANDARD
TZOFFSETFROM:+0300
TZOFFSETTO:+0200
TZNAME:EET
DTSTART:20181028T010000
END:STANDARD
BEGIN:DAYLIGHT
TZOFFSETFROM:+0200
TZOFFSETTO:+0300
TZNAME:EEST
DTSTART:20190331T010000
END:DAYLIGHT
BEGIN:STANDARD
TZOFFSETFROM:+0300
TZOFFSETTO:+0200
TZNAME:EET
DTSTART:20191027T010000
END:STANDARD
BEGIN:DAYLIGHT
TZOFFSETFROM:+0200
TZOFFSETTO:+0300
TZNAME:EEST
DTSTART:20200329T010000
END:DAYLIGHT
BEGIN:STANDARD
TZOFFSETFROM:+0300
TZOFFSETTO:+0200
TZNAME:EET
DTSTART:20201025T010000
END:STANDARD
BEGIN:DAYLIGHT
TZOFFSETFROM:+0200
TZOFFSETTO:+0300
TZNAME:EEST
DTSTART:20210328T010000
END:DAYLIGHT
BEGIN:STANDARD
TZOFFSETFROM:+0300
TZOFFSETTO:+0200
TZNAME:EET
DTSTART:20211031T010000
END:STANDARD
END:VTIMEZONE
BEGIN:VEVENT
DTSTART;TZID=Europe/Berlin:20221111T080000
DTEND;TZID=Europe/Berlin:20221112T170000
DTSTAMP:20260423T160740
CREATED:20211027T132136Z
LAST-MODIFIED:20211027T132359Z
UID:10000222-1668153600-1668272400@www.dgmsr.de
SUMMARY:Skelett- und Gelenkseminar München
DESCRIPTION:Thema: Schulter Intensiv
URL:https://www.dgmsr.de/event/skelett-und-gelenkseminar-muenchen-3/
LOCATION:GE Healthcare Akademisches Trainingszentrum\, Oskar-Schlemmer-Straße 11\, München\, 80807\, Deutschland
GEO:48.1792732;11.5946809
X-APPLE-STRUCTURED-LOCATION;VALUE=URI;X-ADDRESS=GE Healthcare Akademisches Trainingszentrum Oskar-Schlemmer-Straße 11 München 80807 Deutschland;X-APPLE-RADIUS=500;X-TITLE=Oskar-Schlemmer-Straße 11:geo:11.5946809,48.1792732
END:VEVENT
BEGIN:VEVENT
DTSTART;TZID=Europe/Berlin:20220715T080000
DTEND;TZID=Europe/Berlin:20220716T170000
DTSTAMP:20260423T160740
CREATED:20211027T131907Z
LAST-MODIFIED:20211027T132421Z
UID:10000221-1657872000-1657990800@www.dgmsr.de
SUMMARY:Skelett- und Gelenkseminar München
DESCRIPTION:Thema: Schulter Intensiv
URL:https://www.dgmsr.de/event/skelett-und-gelenkseminar-muenchen-2/
LOCATION:GE Healthcare Akademisches Trainingszentrum\, Oskar-Schlemmer-Straße 11\, München\, 80807\, Deutschland
GEO:48.1792732;11.5946809
X-APPLE-STRUCTURED-LOCATION;VALUE=URI;X-ADDRESS=GE Healthcare Akademisches Trainingszentrum Oskar-Schlemmer-Straße 11 München 80807 Deutschland;X-APPLE-RADIUS=500;X-TITLE=Oskar-Schlemmer-Straße 11:geo:11.5946809,48.1792732
END:VEVENT
BEGIN:VEVENT
DTSTART;TZID=Europe/Helsinki:20210709T080000
DTEND;TZID=Europe/Helsinki:20210710T170000
DTSTAMP:20260423T160740
CREATED:20191011T074514Z
LAST-MODIFIED:20201120T135807Z
UID:10000198-1625817600-1625936400@www.dgmsr.de
SUMMARY:Augsburg Münchner Gelenk- und Skelettseminare 2021
DESCRIPTION:Thema: Schulter Intensiv
URL:https://www.dgmsr.de/event/augsburg-muenchner-gelenk-und-skelettseminare-2020/
LOCATION:GE Healthcare Akademisches Trainingszentrum\, Oskar-Schlemmer-Straße 11\, München\, 80807\, Deutschland
GEO:48.1792732;11.5946809
X-APPLE-STRUCTURED-LOCATION;VALUE=URI;X-ADDRESS=GE Healthcare Akademisches Trainingszentrum Oskar-Schlemmer-Straße 11 München 80807 Deutschland;X-APPLE-RADIUS=500;X-TITLE=Oskar-Schlemmer-Straße 11:geo:11.5946809,48.1792732
END:VEVENT
BEGIN:VEVENT
DTSTART;TZID=Europe/Helsinki:20191122T100000
DTEND;TZID=Europe/Helsinki:20191123T170000
DTSTAMP:20260423T160740
CREATED:20181203T145815Z
LAST-MODIFIED:20190617T105801Z
UID:10000188-1574416800-1574528400@www.dgmsr.de
SUMMARY:Augsburg-Münchner Skelett- und Gelenkseminar
DESCRIPTION:High-End Diagnostik am Kniegelenk\nFortbildungspunkte sind bei der Landesärztekammer beantragt!
URL:https://www.dgmsr.de/event/augsburg-muenchner-skelett-und-gelenkseminar-3/
LOCATION:GE Healthcare Akademisches Trainingszentrum\, Oskar-Schlemmer-Straße 11\, München\, 80807\, Deutschland
GEO:48.1792732;11.5946809
X-APPLE-STRUCTURED-LOCATION;VALUE=URI;X-ADDRESS=GE Healthcare Akademisches Trainingszentrum Oskar-Schlemmer-Straße 11 München 80807 Deutschland;X-APPLE-RADIUS=500;X-TITLE=Oskar-Schlemmer-Straße 11:geo:11.5946809,48.1792732
END:VEVENT
BEGIN:VEVENT
DTSTART;TZID=Europe/Helsinki:20190712T100000
DTEND;TZID=Europe/Helsinki:20190713T170000
DTSTAMP:20260423T160740
CREATED:20181203T145507Z
LAST-MODIFIED:20190617T105926Z
UID:10000187-1562925600-1563037200@www.dgmsr.de
SUMMARY:Augsburg-Münchner Skelett- und Gelenkseminar
DESCRIPTION:High-End Diagnostik am Kniegelenk\n15 Fortbildungspunkte der Kat. C wurden von der Bayr. Landesärztekammer zertifiziert!
URL:https://www.dgmsr.de/event/augsburg-muenchner-skelett-und-gelenkseminar-2/
LOCATION:GE Healthcare Akademisches Trainingszentrum\, Oskar-Schlemmer-Straße 11\, München\, 80807\, Deutschland
GEO:48.1792732;11.5946809
X-APPLE-STRUCTURED-LOCATION;VALUE=URI;X-ADDRESS=GE Healthcare Akademisches Trainingszentrum Oskar-Schlemmer-Straße 11 München 80807 Deutschland;X-APPLE-RADIUS=500;X-TITLE=Oskar-Schlemmer-Straße 11:geo:11.5946809,48.1792732
END:VEVENT
BEGIN:VEVENT
DTSTART;VALUE=DATE:20181109
DTEND;VALUE=DATE:20181111
DTSTAMP:20260423T160740
CREATED:20171001T175330Z
LAST-MODIFIED:20180725T194251Z
UID:10000164-1541721600-1541894399@www.dgmsr.de
SUMMARY:Augsburg-Münchner Gelenk- und Skelettseminare 2018 (Thema: Hand\, Handgelenk und Ellenbogen) - AUSGEBUCHT -
DESCRIPTION:
URL:https://www.dgmsr.de/event/augsburg-muenchner-gelenk-und-skelettseminare-2018-thema-hand-handgelenk-und-ellenbogen/
LOCATION:GE Healthcare Akademisches Trainingszentrum\, Oskar-Schlemmer-Straße 11\, München\, 80807\, Deutschland
GEO:48.1792732;11.5946809
X-APPLE-STRUCTURED-LOCATION;VALUE=URI;X-ADDRESS=GE Healthcare Akademisches Trainingszentrum Oskar-Schlemmer-Straße 11 München 80807 Deutschland;X-APPLE-RADIUS=500;X-TITLE=Oskar-Schlemmer-Straße 11:geo:11.5946809,48.1792732
END:VEVENT
BEGIN:VEVENT
DTSTART;VALUE=DATE:20180713
DTEND;VALUE=DATE:20180715
DTSTAMP:20260423T160740
CREATED:20170929T131639Z
LAST-MODIFIED:20171112T004153Z
UID:10000163-1531440000-1531612799@www.dgmsr.de
SUMMARY:Augsburg-Münchner Skelett- und Gelenkseminare 2018 (Thema: Hand\, Handgelenk und Ellenbogen) - AUSGEBUCHT
DESCRIPTION:
URL:https://www.dgmsr.de/event/augsburg-muenchner-skelett-und-gelenkseminar/
LOCATION:GE Healthcare Akademisches Trainingszentrum\, Oskar-Schlemmer-Straße 11\, München\, 80807\, Deutschland
GEO:48.1792732;11.5946809
X-APPLE-STRUCTURED-LOCATION;VALUE=URI;X-ADDRESS=GE Healthcare Akademisches Trainingszentrum Oskar-Schlemmer-Straße 11 München 80807 Deutschland;X-APPLE-RADIUS=500;X-TITLE=Oskar-Schlemmer-Straße 11:geo:11.5946809,48.1792732
END:VEVENT
BEGIN:VEVENT
DTSTART;VALUE=DATE:20171117
DTEND;VALUE=DATE:20171119
DTSTAMP:20260423T160740
CREATED:20161018T184324Z
LAST-MODIFIED:20171112T004152Z
UID:10000149-1510876800-1511049599@www.dgmsr.de
SUMMARY:Augsburg-Münchner Gelenk- und Skelettseminare 2017 (Thema: Becken und Hüfte) - AUSGEBUCHT
DESCRIPTION:
URL:https://www.dgmsr.de/event/augsburg-muenchner-gelenk-und-skelettseminare-2017/
LOCATION:GE Healthcare Akademisches Trainingszentrum\, Oskar-Schlemmer-Straße 11\, München\, 80807\, Deutschland
ORGANIZER;CN="Consulting Healthcare Hollmer":MAILTO:info@dgmsr.de
GEO:48.1792732;11.5946809
X-APPLE-STRUCTURED-LOCATION;VALUE=URI;X-ADDRESS=GE Healthcare Akademisches Trainingszentrum Oskar-Schlemmer-Straße 11 München 80807 Deutschland;X-APPLE-RADIUS=500;X-TITLE=Oskar-Schlemmer-Straße 11:geo:11.5946809,48.1792732
END:VEVENT
BEGIN:VEVENT
DTSTART;VALUE=DATE:20170707
DTEND;VALUE=DATE:20170709
DTSTAMP:20260423T160740
CREATED:20161223T193908Z
LAST-MODIFIED:20171112T004153Z
UID:10000155-1499385600-1499558399@www.dgmsr.de
SUMMARY:Augsburg-Münchner Gelenk- und Skelettseminare 2017 (Thema: Becken und Hüfte)
DESCRIPTION:
URL:https://www.dgmsr.de/event/augsburg-muenchner-gelenk-und-skelettseminare-2017-2/
LOCATION:GE Healthcare Akademisches Trainingszentrum\, Oskar-Schlemmer-Straße 11\, München\, 80807\, Deutschland
ORGANIZER;CN="Consulting Healthcare Hollmer":MAILTO:info@dgmsr.de
GEO:48.1792732;11.5946809
X-APPLE-STRUCTURED-LOCATION;VALUE=URI;X-ADDRESS=GE Healthcare Akademisches Trainingszentrum Oskar-Schlemmer-Straße 11 München 80807 Deutschland;X-APPLE-RADIUS=500;X-TITLE=Oskar-Schlemmer-Straße 11:geo:11.5946809,48.1792732
END:VEVENT
END:VCALENDAR