BEGIN:VCALENDAR
VERSION:2.0
PRODID:-//DGMSR e.V. - ECPv6.13.2.1//NONSGML v1.0//EN
CALSCALE:GREGORIAN
METHOD:PUBLISH
X-ORIGINAL-URL:https://www.dgmsr.de
X-WR-CALDESC:Veranstaltungen für DGMSR e.V.
REFRESH-INTERVAL;VALUE=DURATION:PT1H
X-Robots-Tag:noindex
X-PUBLISHED-TTL:PT1H
BEGIN:VTIMEZONE
TZID:Europe/Berlin
BEGIN:DAYLIGHT
TZOFFSETFROM:+0100
TZOFFSETTO:+0200
TZNAME:CEST
DTSTART:20220327T010000
END:DAYLIGHT
BEGIN:STANDARD
TZOFFSETFROM:+0200
TZOFFSETTO:+0100
TZNAME:CET
DTSTART:20221030T010000
END:STANDARD
END:VTIMEZONE
BEGIN:VTIMEZONE
TZID:Europe/Helsinki
BEGIN:DAYLIGHT
TZOFFSETFROM:+0200
TZOFFSETTO:+0300
TZNAME:EEST
DTSTART:20170326T010000
END:DAYLIGHT
BEGIN:STANDARD
TZOFFSETFROM:+0300
TZOFFSETTO:+0200
TZNAME:EET
DTSTART:20171029T010000
END:STANDARD
BEGIN:DAYLIGHT
TZOFFSETFROM:+0200
TZOFFSETTO:+0300
TZNAME:EEST
DTSTART:20180325T010000
END:DAYLIGHT
BEGIN:STANDARD
TZOFFSETFROM:+0300
TZOFFSETTO:+0200
TZNAME:EET
DTSTART:20181028T010000
END:STANDARD
BEGIN:DAYLIGHT
TZOFFSETFROM:+0200
TZOFFSETTO:+0300
TZNAME:EEST
DTSTART:20190331T010000
END:DAYLIGHT
BEGIN:STANDARD
TZOFFSETFROM:+0300
TZOFFSETTO:+0200
TZNAME:EET
DTSTART:20191027T010000
END:STANDARD
BEGIN:DAYLIGHT
TZOFFSETFROM:+0200
TZOFFSETTO:+0300
TZNAME:EEST
DTSTART:20200329T010000
END:DAYLIGHT
BEGIN:STANDARD
TZOFFSETFROM:+0300
TZOFFSETTO:+0200
TZNAME:EET
DTSTART:20201025T010000
END:STANDARD
END:VTIMEZONE
BEGIN:VEVENT
DTSTART;VALUE=DATE:20221125
DTEND;VALUE=DATE:20221126
DTSTAMP:20260422T191604
CREATED:20220727T080027Z
LAST-MODIFIED:20220727T080027Z
UID:10000236-1669334400-1669420799@www.dgmsr.de
SUMMARY:MR-Arthrographie Basiskurs
DESCRIPTION:
URL:https://www.dgmsr.de/event/mr-arthrographie-basiskurs/
LOCATION:online / onsite
ORGANIZER;CN="Universit%C3%A4t Z%C3%BCrich":MAILTO:erich.torreiter@usz
END:VEVENT
BEGIN:VEVENT
DTSTART;VALUE=DATE:20200215
DTEND;VALUE=DATE:20200223
DTSTAMP:20260422T191604
CREATED:20190926T065825Z
LAST-MODIFIED:20190926T065825Z
UID:10000134-1581724800-1582415999@www.dgmsr.de
SUMMARY:18. Arthroskopie- und Diagnostik-Kurs
DESCRIPTION:
URL:https://www.dgmsr.de/event/18-arthroskopie-und-diagnostik-kurs/
LOCATION:Wolkenstein\, Italien\, Kulturhaus Oswald von Wolkenstein\, Wolkenstein\, Italien
ORGANIZER;CN="Universit%C3%A4t Z%C3%BCrich":MAILTO:erich.torreiter@usz
GEO:46.555222;11.7561075
X-APPLE-STRUCTURED-LOCATION;VALUE=URI;X-ADDRESS=Wolkenstein Italien Kulturhaus Oswald von Wolkenstein Wolkenstein Italien;X-APPLE-RADIUS=500;X-TITLE=Kulturhaus Oswald von Wolkenstein:geo:11.7561075,46.555222
END:VEVENT
BEGIN:VEVENT
DTSTART;VALUE=DATE:20190216
DTEND;VALUE=DATE:20190224
DTSTAMP:20260422T191604
CREATED:20180927T055549Z
LAST-MODIFIED:20180927T055549Z
UID:10000182-1550275200-1550966399@www.dgmsr.de
SUMMARY:17. Arthroskopie- und Diagnostik-Kurs Wolkenstein
DESCRIPTION:
URL:https://www.dgmsr.de/event/17-arthroskopie-und-diagnostik-kurs-wolkenstein/
LOCATION:Wolkenstein\, Italien\, Kulturhaus Oswald von Wolkenstein\, Wolkenstein\, Italien
ORGANIZER;CN="Universit%C3%A4t Z%C3%BCrich":MAILTO:erich.torreiter@usz
GEO:46.555222;11.7561075
X-APPLE-STRUCTURED-LOCATION;VALUE=URI;X-ADDRESS=Wolkenstein Italien Kulturhaus Oswald von Wolkenstein Wolkenstein Italien;X-APPLE-RADIUS=500;X-TITLE=Kulturhaus Oswald von Wolkenstein:geo:11.7561075,46.555222
END:VEVENT
BEGIN:VEVENT
DTSTART;VALUE=DATE:20180907
DTEND;VALUE=DATE:20180909
DTSTAMP:20260422T191604
CREATED:20180305T155801Z
LAST-MODIFIED:20180305T155801Z
UID:10000174-1536278400-1536451199@www.dgmsr.de
SUMMARY:Der Balgrist MR Kurs der Gelenke
DESCRIPTION:
URL:https://www.dgmsr.de/event/der-balgrist-mr-kurs-der-gelenke-2/
LOCATION:Balgrist\, Zürich\, Universitätsklinik\, Balgrist\, Zürich\, 8006\, Schweiz
ORGANIZER;CN="Universit%C3%A4t Z%C3%BCrich":MAILTO:erich.torreiter@usz
GEO:47.35326;8.5750437
X-APPLE-STRUCTURED-LOCATION;VALUE=URI;X-ADDRESS=Balgrist Zürich Universitätsklinik Balgrist Zürich 8006 Schweiz;X-APPLE-RADIUS=500;X-TITLE=Universitätsklinik:geo:8.5750437,47.35326
END:VEVENT
BEGIN:VEVENT
DTSTART;VALUE=DATE:20170915
DTEND;VALUE=DATE:20170917
DTSTAMP:20260422T191604
CREATED:20170621T071521Z
LAST-MODIFIED:20171112T004153Z
UID:10000160-1505433600-1505606399@www.dgmsr.de
SUMMARY:Der Balgrist MR Kurs der Gelenke
DESCRIPTION:Strukturierte Theorie – Interaktive Praxis\nFälle selber am PACS anschauen
URL:https://www.dgmsr.de/event/der-balgrist-mr-kurs-der-gelenke/
LOCATION:Balgrist\, Zürich\, Universitätsklinik\, Balgrist\, Zürich\, 8006\, Schweiz
ORGANIZER;CN="Universit%C3%A4t Z%C3%BCrich":MAILTO:erich.torreiter@usz
GEO:47.35326;8.5750437
X-APPLE-STRUCTURED-LOCATION;VALUE=URI;X-ADDRESS=Balgrist Zürich Universitätsklinik Balgrist Zürich 8006 Schweiz;X-APPLE-RADIUS=500;X-TITLE=Universitätsklinik:geo:8.5750437,47.35326
END:VEVENT
END:VCALENDAR