BEGIN:VCALENDAR
VERSION:2.0
PRODID:-//DGMSR e.V. - ECPv6.13.2.1//NONSGML v1.0//EN
CALSCALE:GREGORIAN
METHOD:PUBLISH
X-WR-CALNAME:DGMSR e.V.
X-ORIGINAL-URL:https://www.dgmsr.de
X-WR-CALDESC:Veranstaltungen für DGMSR e.V.
REFRESH-INTERVAL;VALUE=DURATION:PT1H
X-Robots-Tag:noindex
X-PUBLISHED-TTL:PT1H
BEGIN:VTIMEZONE
TZID:Europe/Berlin
BEGIN:DAYLIGHT
TZOFFSETFROM:+0100
TZOFFSETTO:+0200
TZNAME:CEST
DTSTART:20200329T010000
END:DAYLIGHT
BEGIN:STANDARD
TZOFFSETFROM:+0200
TZOFFSETTO:+0100
TZNAME:CET
DTSTART:20201025T010000
END:STANDARD
BEGIN:DAYLIGHT
TZOFFSETFROM:+0100
TZOFFSETTO:+0200
TZNAME:CEST
DTSTART:20210328T010000
END:DAYLIGHT
BEGIN:STANDARD
TZOFFSETFROM:+0200
TZOFFSETTO:+0100
TZNAME:CET
DTSTART:20211031T010000
END:STANDARD
BEGIN:DAYLIGHT
TZOFFSETFROM:+0100
TZOFFSETTO:+0200
TZNAME:CEST
DTSTART:20220327T010000
END:DAYLIGHT
BEGIN:STANDARD
TZOFFSETFROM:+0200
TZOFFSETTO:+0100
TZNAME:CET
DTSTART:20221030T010000
END:STANDARD
BEGIN:DAYLIGHT
TZOFFSETFROM:+0100
TZOFFSETTO:+0200
TZNAME:CEST
DTSTART:20230326T010000
END:DAYLIGHT
BEGIN:STANDARD
TZOFFSETFROM:+0200
TZOFFSETTO:+0100
TZNAME:CET
DTSTART:20231029T010000
END:STANDARD
BEGIN:DAYLIGHT
TZOFFSETFROM:+0100
TZOFFSETTO:+0200
TZNAME:CEST
DTSTART:20240331T010000
END:DAYLIGHT
BEGIN:STANDARD
TZOFFSETFROM:+0200
TZOFFSETTO:+0100
TZNAME:CET
DTSTART:20241027T010000
END:STANDARD
BEGIN:DAYLIGHT
TZOFFSETFROM:+0100
TZOFFSETTO:+0200
TZNAME:CEST
DTSTART:20250330T010000
END:DAYLIGHT
BEGIN:STANDARD
TZOFFSETFROM:+0200
TZOFFSETTO:+0100
TZNAME:CET
DTSTART:20251026T010000
END:STANDARD
END:VTIMEZONE
BEGIN:VEVENT
DTSTART;TZID=Europe/Berlin:20250829T085000
DTEND;TZID=Europe/Berlin:20250830T153000
DTSTAMP:20260422T200324
CREATED:20250207T133200Z
LAST-MODIFIED:20250207T133200Z
UID:10000302-1756457400-1756567800@www.dgmsr.de
SUMMARY:Balgrist MR-Kurs der Gelenke
DESCRIPTION:Interaktiver MR-Kurs
URL:https://www.dgmsr.de/event/balgrist-mr-kurs-der-gelenke-5/
LOCATION:Balgrist\, Zürich\, Universitätsklinik\, Balgrist\, Zürich\, 8006\, Schweiz
ORGANIZER;CN="Universit%C3%A4t Balgrist":MAILTO:kongresse@balgrist.ch
GEO:47.35326;8.5750437
X-APPLE-STRUCTURED-LOCATION;VALUE=URI;X-ADDRESS=Balgrist Zürich Universitätsklinik Balgrist Zürich 8006 Schweiz;X-APPLE-RADIUS=500;X-TITLE=Universitätsklinik:geo:8.5750437,47.35326
END:VEVENT
BEGIN:VEVENT
DTSTART;TZID=Europe/Berlin:20240906T085000
DTEND;TZID=Europe/Berlin:20240907T153000
DTSTAMP:20260422T200324
CREATED:20240312T113016Z
LAST-MODIFIED:20240312T113016Z
UID:10000272-1725612600-1725723000@www.dgmsr.de
SUMMARY:Balgrist MR-Kurs der Gelenke
DESCRIPTION:
URL:https://www.dgmsr.de/event/balgrist-mr-kurs-der-gelenke-4/
LOCATION:Balgrist\, Zürich\, Universitätsklinik\, Balgrist\, Zürich\, 8006\, Schweiz
ORGANIZER;CN="Universit%C3%A4t Balgrist":MAILTO:kongresse@balgrist.ch
GEO:47.35326;8.5750437
X-APPLE-STRUCTURED-LOCATION;VALUE=URI;X-ADDRESS=Balgrist Zürich Universitätsklinik Balgrist Zürich 8006 Schweiz;X-APPLE-RADIUS=500;X-TITLE=Universitätsklinik:geo:8.5750437,47.35326
END:VEVENT
BEGIN:VEVENT
DTSTART;TZID=Europe/Berlin:20230915T085000
DTEND;TZID=Europe/Berlin:20230916T153000
DTSTAMP:20260422T200324
CREATED:20230626T070656Z
LAST-MODIFIED:20230626T070656Z
UID:10000254-1694767800-1694878200@www.dgmsr.de
SUMMARY:Balgrist MR-Kurs der Gelenke
DESCRIPTION:
URL:https://www.dgmsr.de/event/balgrist-mr-kurs-der-gelenke-3/
LOCATION:Balgrist\, Zürich\, Universitätsklinik\, Balgrist\, Zürich\, 8006\, Schweiz
ORGANIZER;CN="Universit%C3%A4t Balgrist":MAILTO:kongresse@balgrist.ch
GEO:47.35326;8.5750437
X-APPLE-STRUCTURED-LOCATION;VALUE=URI;X-ADDRESS=Balgrist Zürich Universitätsklinik Balgrist Zürich 8006 Schweiz;X-APPLE-RADIUS=500;X-TITLE=Universitätsklinik:geo:8.5750437,47.35326
END:VEVENT
BEGIN:VEVENT
DTSTART;TZID=Europe/Berlin:20220909T080000
DTEND;TZID=Europe/Berlin:20220910T170000
DTSTAMP:20260422T200324
CREATED:20220407T102635Z
LAST-MODIFIED:20220407T102635Z
UID:10000234-1662710400-1662829200@www.dgmsr.de
SUMMARY:Balgrist MR-Kurs der Gelenke
DESCRIPTION:
URL:https://www.dgmsr.de/event/balgrist-mr-kurs-der-gelenke-2/
LOCATION:Balgrist\, Zürich\, Universitätsklinik\, Balgrist\, Zürich\, 8006\, Schweiz
ORGANIZER;CN="Universit%C3%A4t Balgrist":MAILTO:kongresse@balgrist.ch
GEO:47.35326;8.5750437
X-APPLE-STRUCTURED-LOCATION;VALUE=URI;X-ADDRESS=Balgrist Zürich Universitätsklinik Balgrist Zürich 8006 Schweiz;X-APPLE-RADIUS=500;X-TITLE=Universitätsklinik:geo:8.5750437,47.35326
END:VEVENT
BEGIN:VEVENT
DTSTART;TZID=Europe/Berlin:20220513T080000
DTEND;TZID=Europe/Berlin:20220514T170000
DTSTAMP:20260422T200324
CREATED:20211206T074440Z
LAST-MODIFIED:20211206T074440Z
UID:10000225-1652428800-1652547600@www.dgmsr.de
SUMMARY:ESSR Sports Imaging Course
DESCRIPTION:Joint course by the ESSR sports imaging subcommittee and 12th educational SSSR meeting
URL:https://www.dgmsr.de/event/essr-sports-imaging-course-2/
LOCATION:Balgrist\, Zürich\, Universitätsklinik\, Balgrist\, Zürich\, 8006\, Schweiz
ORGANIZER;CN="Universit%C3%A4t Balgrist":MAILTO:kongresse@balgrist.ch
GEO:47.35326;8.5750437
X-APPLE-STRUCTURED-LOCATION;VALUE=URI;X-ADDRESS=Balgrist Zürich Universitätsklinik Balgrist Zürich 8006 Schweiz;X-APPLE-RADIUS=500;X-TITLE=Universitätsklinik:geo:8.5750437,47.35326
END:VEVENT
BEGIN:VEVENT
DTSTART;TZID=Europe/Berlin:20200822T085000
DTEND;TZID=Europe/Berlin:20200822T170000
DTSTAMP:20260422T200324
CREATED:20200318T115722Z
LAST-MODIFIED:20200525T170458Z
UID:10000142-1598086200-1598115600@www.dgmsr.de
SUMMARY:Balgrist MR Kurs der Gelenke
DESCRIPTION:
URL:https://www.dgmsr.de/event/balgrist-mr-kurs-der-gelenke/
LOCATION:online / onsite
ORGANIZER;CN="Universit%C3%A4t Balgrist":MAILTO:kongresse@balgrist.ch
END:VEVENT
END:VCALENDAR