BEGIN:VCALENDAR
VERSION:2.0
PRODID:-//DGMSR e.V. - ECPv6.13.2.1//NONSGML v1.0//EN
CALSCALE:GREGORIAN
METHOD:PUBLISH
X-WR-CALNAME:DGMSR e.V.
X-ORIGINAL-URL:https://www.dgmsr.de
X-WR-CALDESC:Veranstaltungen für DGMSR e.V.
REFRESH-INTERVAL;VALUE=DURATION:PT1H
X-Robots-Tag:noindex
X-PUBLISHED-TTL:PT1H
BEGIN:VTIMEZONE
TZID:Europe/Helsinki
BEGIN:DAYLIGHT
TZOFFSETFROM:+0200
TZOFFSETTO:+0300
TZNAME:EEST
DTSTART:20190331T010000
END:DAYLIGHT
BEGIN:STANDARD
TZOFFSETFROM:+0300
TZOFFSETTO:+0200
TZNAME:EET
DTSTART:20191027T010000
END:STANDARD
END:VTIMEZONE
BEGIN:VEVENT
DTSTART;TZID=Europe/Helsinki:20190521T080000
DTEND;TZID=Europe/Helsinki:20190521T170000
DTSTAMP:20260422T193801
CREATED:20190212T081603Z
LAST-MODIFIED:20190212T081639Z
UID:10000126-1558425600-1558458000@www.dgmsr.de
SUMMARY:Advanced MRI and CT imaging Workshop: nerves\, metal and more
DESCRIPTION:
URL:https://www.dgmsr.de/event/advanced-mri-and-ct-imaging-workshop-nerves-metal-and-more/
LOCATION:The Robert Jones and Agnes Hunt\, Shropshire\, Oswestry\, SY107AG\, Großbritannien (Vereinigtes Königreich)
ORGANIZER;CN="The Robert Jones & Agnes Hunt Orthopaedic Hospital":MAILTO:sian.jones36@nhs.net
GEO:52.8570954;-3.0933435
X-APPLE-STRUCTURED-LOCATION;VALUE=URI;X-ADDRESS=The Robert Jones and Agnes Hunt Shropshire Oswestry SY107AG Großbritannien (Vereinigtes Königreich);X-APPLE-RADIUS=500;X-TITLE=Shropshire:geo:-3.0933435,52.8570954
END:VEVENT
BEGIN:VEVENT
DTSTART;TZID=Europe/Helsinki:20190510T090000
DTEND;TZID=Europe/Helsinki:20190511T170000
DTSTAMP:20260422T193801
CREATED:20190212T081246Z
LAST-MODIFIED:20190212T081246Z
UID:10000125-1557478800-1557594000@www.dgmsr.de
SUMMARY:Cadaveric Musculoskeletal Interventional Course
DESCRIPTION:
URL:https://www.dgmsr.de/event/cadaveric-musculoskeletal-interventional-course/
LOCATION:The Robert Jones and Agnes Hunt\, Shropshire\, Oswestry\, SY107AG\, Großbritannien (Vereinigtes Königreich)
ORGANIZER;CN="The Robert Jones & Agnes Hunt Orthopaedic Hospital":MAILTO:sian.jones36@nhs.net
GEO:52.8570954;-3.0933435
X-APPLE-STRUCTURED-LOCATION;VALUE=URI;X-ADDRESS=The Robert Jones and Agnes Hunt Shropshire Oswestry SY107AG Großbritannien (Vereinigtes Königreich);X-APPLE-RADIUS=500;X-TITLE=Shropshire:geo:-3.0933435,52.8570954
END:VEVENT
END:VCALENDAR