BEGIN:VCALENDAR
VERSION:2.0
PRODID:-//DGMSR e.V. - ECPv6.13.2.1//NONSGML v1.0//EN
CALSCALE:GREGORIAN
METHOD:PUBLISH
X-WR-CALNAME:DGMSR e.V.
X-ORIGINAL-URL:https://www.dgmsr.de
X-WR-CALDESC:Veranstaltungen für DGMSR e.V.
REFRESH-INTERVAL;VALUE=DURATION:PT1H
X-Robots-Tag:noindex
X-PUBLISHED-TTL:PT1H
BEGIN:VTIMEZONE
TZID:Europe/Berlin
BEGIN:DAYLIGHT
TZOFFSETFROM:+0100
TZOFFSETTO:+0200
TZNAME:CEST
DTSTART:20200329T010000
END:DAYLIGHT
BEGIN:STANDARD
TZOFFSETFROM:+0200
TZOFFSETTO:+0100
TZNAME:CET
DTSTART:20201025T010000
END:STANDARD
END:VTIMEZONE
BEGIN:VTIMEZONE
TZID:Europe/Helsinki
BEGIN:DAYLIGHT
TZOFFSETFROM:+0200
TZOFFSETTO:+0300
TZNAME:EEST
DTSTART:20170326T010000
END:DAYLIGHT
BEGIN:STANDARD
TZOFFSETFROM:+0300
TZOFFSETTO:+0200
TZNAME:EET
DTSTART:20171029T010000
END:STANDARD
BEGIN:DAYLIGHT
TZOFFSETFROM:+0200
TZOFFSETTO:+0300
TZNAME:EEST
DTSTART:20180325T010000
END:DAYLIGHT
BEGIN:STANDARD
TZOFFSETFROM:+0300
TZOFFSETTO:+0200
TZNAME:EET
DTSTART:20181028T010000
END:STANDARD
BEGIN:DAYLIGHT
TZOFFSETFROM:+0200
TZOFFSETTO:+0300
TZNAME:EEST
DTSTART:20190331T010000
END:DAYLIGHT
BEGIN:STANDARD
TZOFFSETFROM:+0300
TZOFFSETTO:+0200
TZNAME:EET
DTSTART:20191027T010000
END:STANDARD
END:VTIMEZONE
BEGIN:VEVENT
DTSTART;TZID=Europe/Berlin:20200425T080000
DTEND;TZID=Europe/Berlin:20200426T170000
DTSTAMP:20260423T143801
CREATED:20191209T142533Z
LAST-MODIFIED:20191209T142533Z
UID:10000206-1587801600-1587920400@www.dgmsr.de
SUMMARY:Röntgendiagnostische Fortbildung Neuss
DESCRIPTION:MRT muskuloskelettales System für Fortgeschrittene
URL:https://www.dgmsr.de/event/roentgendiagnostische-fortbildung-neuss-2/
LOCATION:Katholische Akademie Mülheim\, Falkenweg 6\, Mülheim an der Ruhr\, 45478\, Deutschland
ORGANIZER;CN="R%C3%B6ntgendiagnostische Fortbildung Neuss":MAILTO:info@roentgenneuss.de
GEO:51.425931;6.819337
X-APPLE-STRUCTURED-LOCATION;VALUE=URI;X-ADDRESS=Katholische Akademie Mülheim Falkenweg 6 Mülheim an der Ruhr 45478 Deutschland;X-APPLE-RADIUS=500;X-TITLE=Falkenweg 6:geo:6.819337,51.425931
END:VEVENT
BEGIN:VEVENT
DTSTART;TZID=Europe/Berlin:20200208T080000
DTEND;TZID=Europe/Berlin:20200209T170000
DTSTAMP:20260423T143801
CREATED:20191209T142327Z
LAST-MODIFIED:20191213T131048Z
UID:10000205-1581148800-1581267600@www.dgmsr.de
SUMMARY:Röntgendiagnostische Fortbildung Neuss
DESCRIPTION:MRT muskuloskelettales System für Fortgeschrittene
URL:https://www.dgmsr.de/event/roentgendiagnostische-fortbildung-neuss/
LOCATION:Katholische Akademie Mülheim\, Falkenweg 6\, Mülheim an der Ruhr\, 45478\, Deutschland
ORGANIZER;CN="R%C3%B6ntgendiagnostische Fortbildung Neuss":MAILTO:info@roentgenneuss.de
GEO:51.425931;6.819337
X-APPLE-STRUCTURED-LOCATION;VALUE=URI;X-ADDRESS=Katholische Akademie Mülheim Falkenweg 6 Mülheim an der Ruhr 45478 Deutschland;X-APPLE-RADIUS=500;X-TITLE=Falkenweg 6:geo:6.819337,51.425931
END:VEVENT
BEGIN:VEVENT
DTSTART;TZID=Europe/Helsinki:20191116T080000
DTEND;TZID=Europe/Helsinki:20191117T170000
DTSTAMP:20260423T143801
CREATED:20190106T191837Z
LAST-MODIFIED:20190106T191848Z
UID:10000194-1573891200-1574010000@www.dgmsr.de
SUMMARY:Wochenendkurs MRT-Diagnostik muskuloskelettales System (Basiskurs)
DESCRIPTION:
URL:https://www.dgmsr.de/event/wochenendkurs-mrt-diagnostik-muskuloskelettales-system-basiskurs/
LOCATION:Commundo Tagungshotel Neuss\, Humboldtstraße 2\,  Neuss\, 41468\, Deutschland
ORGANIZER;CN="R%C3%B6ntgendiagnostische Fortbildung Neuss":MAILTO:info@roentgenneuss.de
GEO:51.1847638;6.7234163
X-APPLE-STRUCTURED-LOCATION;VALUE=URI;X-ADDRESS=Commundo Tagungshotel Neuss Humboldtstraße 2  Neuss 41468 Deutschland;X-APPLE-RADIUS=500;X-TITLE=Humboldtstraße 2:geo:6.7234163,51.1847638
END:VEVENT
BEGIN:VEVENT
DTSTART;TZID=Europe/Helsinki:20190912T080000
DTEND;TZID=Europe/Helsinki:20190915T170000
DTSTAMP:20260423T143801
CREATED:20190106T191657Z
LAST-MODIFIED:20190106T191707Z
UID:10000193-1568275200-1568566800@www.dgmsr.de
SUMMARY:Großer Kurs Skelettdiagnostik
DESCRIPTION:
URL:https://www.dgmsr.de/event/grosser-kurs-skelettdiagnostik/
LOCATION:Commundo Tagungshotel Neuss\, Humboldtstraße 2\,  Neuss\, 41468\, Deutschland
ORGANIZER;CN="R%C3%B6ntgendiagnostische Fortbildung Neuss":MAILTO:info@roentgenneuss.de
GEO:51.1847638;6.7234163
X-APPLE-STRUCTURED-LOCATION;VALUE=URI;X-ADDRESS=Commundo Tagungshotel Neuss Humboldtstraße 2  Neuss 41468 Deutschland;X-APPLE-RADIUS=500;X-TITLE=Humboldtstraße 2:geo:6.7234163,51.1847638
END:VEVENT
BEGIN:VEVENT
DTSTART;TZID=Europe/Helsinki:20190504T080000
DTEND;TZID=Europe/Helsinki:20190505T170000
DTSTAMP:20260423T143801
CREATED:20190106T191531Z
LAST-MODIFIED:20190107T123153Z
UID:10000192-1556956800-1557075600@www.dgmsr.de
SUMMARY:Wochenendkurs MRT-Diagnostik muskuloskelettales System für Fortgeschrittene
DESCRIPTION:
URL:https://www.dgmsr.de/event/wochenendkurs-mrt-diagnostik-muskuloskelettales-system-fuer-fortgeschrittene-4/
LOCATION:Commundo Tagungshotel Neuss\, Humboldtstraße 2\,  Neuss\, 41468\, Deutschland
ORGANIZER;CN="R%C3%B6ntgendiagnostische Fortbildung Neuss":MAILTO:info@roentgenneuss.de
GEO:51.1847638;6.7234163
X-APPLE-STRUCTURED-LOCATION;VALUE=URI;X-ADDRESS=Commundo Tagungshotel Neuss Humboldtstraße 2  Neuss 41468 Deutschland;X-APPLE-RADIUS=500;X-TITLE=Humboldtstraße 2:geo:6.7234163,51.1847638
END:VEVENT
BEGIN:VEVENT
DTSTART;TZID=Europe/Helsinki:20190216T080000
DTEND;TZID=Europe/Helsinki:20190217T170000
DTSTAMP:20260423T143801
CREATED:20190106T191304Z
LAST-MODIFIED:20190106T191304Z
UID:10000191-1550304000-1550422800@www.dgmsr.de
SUMMARY:Wochenendkurs MRT-Diagnostik muskuloskelettales System für Fortgeschrittene
DESCRIPTION:
URL:https://www.dgmsr.de/event/wochenendkurs-mrt-diagnostik-muskuloskelettales-system-fuer-fortgeschrittene-3/
LOCATION:Commundo Tagungshotel Neuss\, Humboldtstraße 2\,  Neuss\, 41468\, Deutschland
ORGANIZER;CN="R%C3%B6ntgendiagnostische Fortbildung Neuss":MAILTO:info@roentgenneuss.de
GEO:51.1847638;6.7234163
X-APPLE-STRUCTURED-LOCATION;VALUE=URI;X-ADDRESS=Commundo Tagungshotel Neuss Humboldtstraße 2  Neuss 41468 Deutschland;X-APPLE-RADIUS=500;X-TITLE=Humboldtstraße 2:geo:6.7234163,51.1847638
END:VEVENT
BEGIN:VEVENT
DTSTART;VALUE=DATE:20181103
DTEND;VALUE=DATE:20181105
DTSTAMP:20260423T143801
CREATED:20171210T160902Z
LAST-MODIFIED:20171210T161101Z
UID:10000171-1541203200-1541375999@www.dgmsr.de
SUMMARY:Wochenendkurs MRT-Diagnostik muskuloskelettales System (Basiskurs)
DESCRIPTION:
URL:https://www.dgmsr.de/event/wochenendkurs-mrt-diagnostik-muskuloskelettales-system-basiskurs-2/
LOCATION:Röntgendiagnostische Fortbildung Neuss\, Neuss
ORGANIZER;CN="R%C3%B6ntgendiagnostische Fortbildung Neuss":MAILTO:info@roentgenneuss.de
GEO:51.2041968;6.6879511
END:VEVENT
BEGIN:VEVENT
DTSTART;VALUE=DATE:20180920
DTEND;VALUE=DATE:20180924
DTSTAMP:20260423T143801
CREATED:20171210T160734Z
LAST-MODIFIED:20171210T161207Z
UID:10000170-1537401600-1537747199@www.dgmsr.de
SUMMARY:Großer Kurs Wirbelsäule und Spinalkanal: Muskuloskelettale Radiologie meets Neuroradiologie
DESCRIPTION:
URL:https://www.dgmsr.de/event/grosser-kurs-wirbelsaeule-und-spinalkanal-muskuloskelettale-radiologie-meets-neuroradiologie/
LOCATION:Röntgendiagnostische Fortbildung Neuss\, Neuss
ORGANIZER;CN="R%C3%B6ntgendiagnostische Fortbildung Neuss":MAILTO:info@roentgenneuss.de
GEO:51.2041968;6.6879511
END:VEVENT
BEGIN:VEVENT
DTSTART;VALUE=DATE:20180602
DTEND;VALUE=DATE:20180604
DTSTAMP:20260423T143801
CREATED:20171210T160543Z
LAST-MODIFIED:20171210T161321Z
UID:10000169-1527897600-1528070399@www.dgmsr.de
SUMMARY:Wochenendkurs MRT-Diagnostik muskuloskelettales System für Fortgeschrittene
DESCRIPTION:
URL:https://www.dgmsr.de/event/wochenendkurs-mrt-diagnostik-muskuloskelettales-system-fuer-fortgeschrittene-2/
LOCATION:Röntgendiagnostische Fortbildung Neuss\, Neuss
ORGANIZER;CN="R%C3%B6ntgendiagnostische Fortbildung Neuss":MAILTO:info@roentgenneuss.de
GEO:51.2041968;6.6879511
END:VEVENT
BEGIN:VEVENT
DTSTART;VALUE=DATE:20180421
DTEND;VALUE=DATE:20180423
DTSTAMP:20260423T143801
CREATED:20171210T160342Z
LAST-MODIFIED:20180424T185759Z
UID:10000168-1524268800-1524441599@www.dgmsr.de
SUMMARY:Wochenendkurs Rheumatologie
DESCRIPTION:
URL:https://www.dgmsr.de/event/wochenendkurs-rheumatologie/
LOCATION:Röntgendiagnostische Fortbildung Neuss\, Neuss
ORGANIZER;CN="R%C3%B6ntgendiagnostische Fortbildung Neuss":MAILTO:info@roentgenneuss.de
GEO:51.2041968;6.6879511
END:VEVENT
BEGIN:VEVENT
DTSTART;VALUE=DATE:20180224
DTEND;VALUE=DATE:20180226
DTSTAMP:20260423T143801
CREATED:20171210T155818Z
LAST-MODIFIED:20171210T161546Z
UID:10000167-1519430400-1519603199@www.dgmsr.de
SUMMARY:Wochenendkurs MRT-Diagnostik muskuloskelettales System für Fortgeschrittene
DESCRIPTION:
URL:https://www.dgmsr.de/event/wochenendkurs-mrt-diagnostik-muskuloskelettales-system-fuer-fortgeschrittene/
LOCATION:Röntgendiagnostische Fortbildung Neuss\, Neuss
ORGANIZER;CN="R%C3%B6ntgendiagnostische Fortbildung Neuss":MAILTO:info@roentgenneuss.de
GEO:51.2041968;6.6879511
END:VEVENT
BEGIN:VEVENT
DTSTART;VALUE=DATE:20171111
DTEND;VALUE=DATE:20171113
DTSTAMP:20260423T143801
CREATED:20161223T190748Z
LAST-MODIFIED:20171112T004153Z
UID:10000153-1510358400-1510531199@www.dgmsr.de
SUMMARY:Wochenendkurs MRT muskuloskelettales System (Basiskurs)
DESCRIPTION:
URL:https://www.dgmsr.de/event/wochenendkurs-mrt-muskuloskelettales-system-basiskurs/
LOCATION:Commundo Tagungshotel Neuss\, Humboldtstraße 2\,  Neuss\, 41468\, Deutschland
ORGANIZER;CN="R%C3%B6ntgendiagnostische Fortbildung Neuss":MAILTO:info@roentgenneuss.de
GEO:51.1847638;6.7234163
X-APPLE-STRUCTURED-LOCATION;VALUE=URI;X-ADDRESS=Commundo Tagungshotel Neuss Humboldtstraße 2  Neuss 41468 Deutschland;X-APPLE-RADIUS=500;X-TITLE=Humboldtstraße 2:geo:6.7234163,51.1847638
END:VEVENT
BEGIN:VEVENT
DTSTART;VALUE=DATE:20170325
DTEND;VALUE=DATE:20170327
DTSTAMP:20260423T143801
CREATED:20161223T190324Z
LAST-MODIFIED:20171112T004153Z
UID:10000152-1490400000-1490572799@www.dgmsr.de
SUMMARY:Wochenendkurs MRT muskuloskelettales System für Fortgeschrittene
DESCRIPTION:
URL:https://www.dgmsr.de/event/wochenendkurs-mrt-muskuloskelettales-system-fuer-fortgeschrittene-2/
LOCATION:Commundo Tagungshotel Neuss\, Humboldtstraße 2\,  Neuss\, 41468\, Deutschland
ORGANIZER;CN="R%C3%B6ntgendiagnostische Fortbildung Neuss":MAILTO:info@roentgenneuss.de
GEO:51.1847638;6.7234163
X-APPLE-STRUCTURED-LOCATION;VALUE=URI;X-ADDRESS=Commundo Tagungshotel Neuss Humboldtstraße 2  Neuss 41468 Deutschland;X-APPLE-RADIUS=500;X-TITLE=Humboldtstraße 2:geo:6.7234163,51.1847638
END:VEVENT
BEGIN:VEVENT
DTSTART;VALUE=DATE:20170218
DTEND;VALUE=DATE:20170220
DTSTAMP:20260423T143801
CREATED:20161223T185617Z
LAST-MODIFIED:20171112T004153Z
UID:10000151-1487376000-1487548799@www.dgmsr.de
SUMMARY:Wochenendkurs MRT muskuloskelettales System für Fortgeschrittene
DESCRIPTION:weitere Informationen unter: www.roentgenfortbildung.de/kurse \nfür DGMSR Diplom- und Expertenqualifikation anerkannt
URL:https://www.dgmsr.de/event/wochenendkurs-mrt-muskuloskelettales-system-fuer-fortgeschrittene/
LOCATION:Commundo Tagungshotel Neuss\, Humboldtstraße 2\,  Neuss\, 41468\, Deutschland
ORGANIZER;CN="R%C3%B6ntgendiagnostische Fortbildung Neuss":MAILTO:info@roentgenneuss.de
GEO:51.1847638;6.7234163
X-APPLE-STRUCTURED-LOCATION;VALUE=URI;X-ADDRESS=Commundo Tagungshotel Neuss Humboldtstraße 2  Neuss 41468 Deutschland;X-APPLE-RADIUS=500;X-TITLE=Humboldtstraße 2:geo:6.7234163,51.1847638
END:VEVENT
END:VCALENDAR