BEGIN:VCALENDAR
VERSION:2.0
PRODID:-//DGMSR e.V. - ECPv6.13.2.1//NONSGML v1.0//EN
CALSCALE:GREGORIAN
METHOD:PUBLISH
X-ORIGINAL-URL:https://www.dgmsr.de
X-WR-CALDESC:Veranstaltungen für DGMSR e.V.
REFRESH-INTERVAL;VALUE=DURATION:PT1H
X-Robots-Tag:noindex
X-PUBLISHED-TTL:PT1H
BEGIN:VTIMEZONE
TZID:Europe/Berlin
BEGIN:DAYLIGHT
TZOFFSETFROM:+0100
TZOFFSETTO:+0200
TZNAME:CEST
DTSTART:20200329T010000
END:DAYLIGHT
BEGIN:STANDARD
TZOFFSETFROM:+0200
TZOFFSETTO:+0100
TZNAME:CET
DTSTART:20201025T010000
END:STANDARD
BEGIN:DAYLIGHT
TZOFFSETFROM:+0100
TZOFFSETTO:+0200
TZNAME:CEST
DTSTART:20210328T010000
END:DAYLIGHT
BEGIN:STANDARD
TZOFFSETFROM:+0200
TZOFFSETTO:+0100
TZNAME:CET
DTSTART:20211031T010000
END:STANDARD
BEGIN:DAYLIGHT
TZOFFSETFROM:+0100
TZOFFSETTO:+0200
TZNAME:CEST
DTSTART:20220327T010000
END:DAYLIGHT
BEGIN:STANDARD
TZOFFSETFROM:+0200
TZOFFSETTO:+0100
TZNAME:CET
DTSTART:20221030T010000
END:STANDARD
BEGIN:DAYLIGHT
TZOFFSETFROM:+0100
TZOFFSETTO:+0200
TZNAME:CEST
DTSTART:20230326T010000
END:DAYLIGHT
BEGIN:STANDARD
TZOFFSETFROM:+0200
TZOFFSETTO:+0100
TZNAME:CET
DTSTART:20231029T010000
END:STANDARD
BEGIN:DAYLIGHT
TZOFFSETFROM:+0100
TZOFFSETTO:+0200
TZNAME:CEST
DTSTART:20240331T010000
END:DAYLIGHT
BEGIN:STANDARD
TZOFFSETFROM:+0200
TZOFFSETTO:+0100
TZNAME:CET
DTSTART:20241027T010000
END:STANDARD
BEGIN:DAYLIGHT
TZOFFSETFROM:+0100
TZOFFSETTO:+0200
TZNAME:CEST
DTSTART:20250330T010000
END:DAYLIGHT
BEGIN:STANDARD
TZOFFSETFROM:+0200
TZOFFSETTO:+0100
TZNAME:CET
DTSTART:20251026T010000
END:STANDARD
BEGIN:DAYLIGHT
TZOFFSETFROM:+0100
TZOFFSETTO:+0200
TZNAME:CEST
DTSTART:20260329T010000
END:DAYLIGHT
BEGIN:STANDARD
TZOFFSETFROM:+0200
TZOFFSETTO:+0100
TZNAME:CET
DTSTART:20261025T010000
END:STANDARD
END:VTIMEZONE
BEGIN:VTIMEZONE
TZID:Europe/Helsinki
BEGIN:DAYLIGHT
TZOFFSETFROM:+0200
TZOFFSETTO:+0300
TZNAME:EEST
DTSTART:20190331T010000
END:DAYLIGHT
BEGIN:STANDARD
TZOFFSETFROM:+0300
TZOFFSETTO:+0200
TZNAME:EET
DTSTART:20191027T010000
END:STANDARD
END:VTIMEZONE
BEGIN:VEVENT
DTSTART;TZID=Europe/Berlin:20260228T080000
DTEND;TZID=Europe/Berlin:20260301T170000
DTSTAMP:20260423T125852
CREATED:20251202T064437Z
LAST-MODIFIED:20251202T064437Z
UID:10000318-1772265600-1772384400@www.dgmsr.de
SUMMARY:MRT Diagnostik muskuloskelettales System für Fortgeschrittene
DESCRIPTION:
URL:https://www.dgmsr.de/event/mrt-diagnostik-muskuloskelettales-system-fuer-fortgeschrittene-5/
LOCATION:online
ORGANIZER;CN="R%C3%B6ntgendiagnostische Fortbildung Neuss":MAILTO:info@roentgenneuss.de
END:VEVENT
BEGIN:VEVENT
DTSTART;TZID=Europe/Berlin:20260117T080000
DTEND;TZID=Europe/Berlin:20260118T170000
DTSTAMP:20260423T125852
CREATED:20251202T064314Z
LAST-MODIFIED:20251202T064314Z
UID:10000317-1768636800-1768755600@www.dgmsr.de
SUMMARY:MRT Diagnostik muskuloskelettales System
DESCRIPTION:Basiskurs
URL:https://www.dgmsr.de/event/mrt-diagnostik-muskuloskelettales-system-3/
LOCATION:online
ORGANIZER;CN="R%C3%B6ntgendiagnostische Fortbildung Neuss":MAILTO:info@roentgenneuss.de
END:VEVENT
BEGIN:VEVENT
DTSTART;TZID=Europe/Berlin:20251108T080000
DTEND;TZID=Europe/Berlin:20251109T170000
DTSTAMP:20260423T125852
CREATED:20241223T081222Z
LAST-MODIFIED:20241223T081222Z
UID:10000298-1762588800-1762707600@www.dgmsr.de
SUMMARY:Röntgendiagnostische Fortbildung Neuss
DESCRIPTION:MRT Diagnostik muskuloskelettales System (Basiskurs)
URL:https://www.dgmsr.de/event/roentgendiagnostische-fortbildung-neuss-9/
LOCATION:online
ORGANIZER;CN="R%C3%B6ntgendiagnostische Fortbildung Neuss":MAILTO:info@roentgenneuss.de
END:VEVENT
BEGIN:VEVENT
DTSTART;TZID=Europe/Berlin:20250329T080000
DTEND;TZID=Europe/Berlin:20250330T170000
DTSTAMP:20260423T125852
CREATED:20241223T081109Z
LAST-MODIFIED:20241223T081109Z
UID:10000297-1743235200-1743354000@www.dgmsr.de
SUMMARY:Röntgendiagnostische Fortbildung Neuss
DESCRIPTION:Rheumatologie (Bildgebung)
URL:https://www.dgmsr.de/event/roentgendiagnostische-fortbildung-neuss-8/
LOCATION:online
ORGANIZER;CN="R%C3%B6ntgendiagnostische Fortbildung Neuss":MAILTO:info@roentgenneuss.de
END:VEVENT
BEGIN:VEVENT
DTSTART;TZID=Europe/Berlin:20250329T080000
DTEND;TZID=Europe/Berlin:20250330T170000
DTSTAMP:20260423T125852
CREATED:20241223T080952Z
LAST-MODIFIED:20241223T080952Z
UID:10000296-1743235200-1743354000@www.dgmsr.de
SUMMARY:Röntgendiagnostische Fortbildung Neuss
DESCRIPTION:MRT Diagnostik muskuloskelettales System für Fortgeschrittene
URL:https://www.dgmsr.de/event/roentgendiagnostische-fortbildung-neuss-7/
LOCATION:online
ORGANIZER;CN="R%C3%B6ntgendiagnostische Fortbildung Neuss":MAILTO:info@roentgenneuss.de
END:VEVENT
BEGIN:VEVENT
DTSTART;TZID=Europe/Berlin:20250215T080000
DTEND;TZID=Europe/Berlin:20250216T170000
DTSTAMP:20260423T125852
CREATED:20241223T080819Z
LAST-MODIFIED:20241223T080819Z
UID:10000295-1739606400-1739725200@www.dgmsr.de
SUMMARY:Röntgendiagnostische Fortbildung Neuss
DESCRIPTION:MRT Diagnostik muskuloskelettales System für Fortgeschrittene
URL:https://www.dgmsr.de/event/roentgendiagnostische-fortbildung-neuss-6/
LOCATION:online
ORGANIZER;CN="R%C3%B6ntgendiagnostische Fortbildung Neuss":MAILTO:info@roentgenneuss.de
END:VEVENT
BEGIN:VEVENT
DTSTART;TZID=Europe/Berlin:20250118T080000
DTEND;TZID=Europe/Berlin:20250119T170000
DTSTAMP:20260423T125852
CREATED:20241223T080652Z
LAST-MODIFIED:20241223T080652Z
UID:10000294-1737187200-1737306000@www.dgmsr.de
SUMMARY:Röntgendiagnostische Fortbildung Neuss
DESCRIPTION:MRT Diagnostik muskuloskelettales System (Basiskurs)
URL:https://www.dgmsr.de/event/roentgendiagnostische-fortbildung-neuss-5/
LOCATION:online
ORGANIZER;CN="R%C3%B6ntgendiagnostische Fortbildung Neuss":MAILTO:info@roentgenneuss.de
END:VEVENT
BEGIN:VEVENT
DTSTART;TZID=Europe/Berlin:20241109T080000
DTEND;TZID=Europe/Berlin:20241110T170000
DTSTAMP:20260423T125852
CREATED:20231213T071011Z
LAST-MODIFIED:20231213T071011Z
UID:10000270-1731139200-1731258000@www.dgmsr.de
SUMMARY:MRT Diagnostik muskuloskelettales System
DESCRIPTION:Basiskurs
URL:https://www.dgmsr.de/event/mrt-diagnostik-muskuloskelettales-system-2/
LOCATION:online
ORGANIZER;CN="R%C3%B6ntgendiagnostische Fortbildung Neuss":MAILTO:info@roentgenneuss.de
END:VEVENT
BEGIN:VEVENT
DTSTART;TZID=Europe/Berlin:20240919T080000
DTEND;TZID=Europe/Berlin:20240922T170000
DTSTAMP:20260423T125852
CREATED:20231213T070902Z
LAST-MODIFIED:20231213T070902Z
UID:10000269-1726732800-1727024400@www.dgmsr.de
SUMMARY:Großer Skelettkurs
DESCRIPTION:
URL:https://www.dgmsr.de/event/grosser-skelettkurs/
LOCATION:online
ORGANIZER;CN="R%C3%B6ntgendiagnostische Fortbildung Neuss":MAILTO:info@roentgenneuss.de
END:VEVENT
BEGIN:VEVENT
DTSTART;TZID=Europe/Berlin:20240420T080000
DTEND;TZID=Europe/Berlin:20240421T170000
DTSTAMP:20260423T125852
CREATED:20231213T070757Z
LAST-MODIFIED:20231213T070757Z
UID:10000268-1713600000-1713718800@www.dgmsr.de
SUMMARY:Rheumatologie (Bildgebung)
DESCRIPTION:
URL:https://www.dgmsr.de/event/rheumatologie-bildgebung-2/
LOCATION:online
ORGANIZER;CN="R%C3%B6ntgendiagnostische Fortbildung Neuss":MAILTO:info@roentgenneuss.de
END:VEVENT
BEGIN:VEVENT
DTSTART;TZID=Europe/Berlin:20240420T080000
DTEND;TZID=Europe/Berlin:20240421T170000
DTSTAMP:20260423T125852
CREATED:20231213T070702Z
LAST-MODIFIED:20231213T070702Z
UID:10000267-1713600000-1713718800@www.dgmsr.de
SUMMARY:MRT Diagnostik muskuloskelettales System für Fortgeschrittene
DESCRIPTION:
URL:https://www.dgmsr.de/event/mrt-diagnostik-muskuloskelettales-system-fuer-fortgeschrittene-4/
LOCATION:online
ORGANIZER;CN="R%C3%B6ntgendiagnostische Fortbildung Neuss":MAILTO:info@roentgenneuss.de
END:VEVENT
BEGIN:VEVENT
DTSTART;TZID=Europe/Berlin:20240217T080000
DTEND;TZID=Europe/Berlin:20240218T170000
DTSTAMP:20260423T125852
CREATED:20231213T070525Z
LAST-MODIFIED:20231213T070525Z
UID:10000266-1708156800-1708275600@www.dgmsr.de
SUMMARY:MRT Diagnostik muskuloskelettales System für Fortgeschrittene
DESCRIPTION:
URL:https://www.dgmsr.de/event/mrt-diagnostik-muskuloskelettales-system-fuer-fortgeschrittene-3/
LOCATION:online
ORGANIZER;CN="R%C3%B6ntgendiagnostische Fortbildung Neuss":MAILTO:info@roentgenneuss.de
END:VEVENT
BEGIN:VEVENT
DTSTART;TZID=Europe/Berlin:20240120T080000
DTEND;TZID=Europe/Berlin:20240121T170000
DTSTAMP:20260423T125852
CREATED:20231213T070311Z
LAST-MODIFIED:20231213T070311Z
UID:10000265-1705737600-1705856400@www.dgmsr.de
SUMMARY:MRT Diagnostik muskuloskelettales System
DESCRIPTION:Basiskurs
URL:https://www.dgmsr.de/event/mrt-diagnostik-muskuloskelettales-system/
LOCATION:online
ORGANIZER;CN="R%C3%B6ntgendiagnostische Fortbildung Neuss":MAILTO:info@roentgenneuss.de
END:VEVENT
BEGIN:VEVENT
DTSTART;TZID=Europe/Berlin:20231104T080000
DTEND;TZID=Europe/Berlin:20231105T170000
DTSTAMP:20260423T125852
CREATED:20221117T132346Z
LAST-MODIFIED:20221117T132346Z
UID:10000244-1699084800-1699203600@www.dgmsr.de
SUMMARY:MRT Diagnostik muskuloskelettales System (Basiskurs)
DESCRIPTION:Live-Webinar
URL:https://www.dgmsr.de/event/mrt-diagnostik-muskuloskelettales-system-basiskurs/
LOCATION:online / onsite
ORGANIZER;CN="R%C3%B6ntgendiagnostische Fortbildung Neuss":MAILTO:info@roentgenneuss.de
END:VEVENT
BEGIN:VEVENT
DTSTART;TZID=Europe/Berlin:20230422T080000
DTEND;TZID=Europe/Berlin:20230423T170000
DTSTAMP:20260423T125852
CREATED:20221117T132501Z
LAST-MODIFIED:20221117T132501Z
UID:10000245-1682150400-1682269200@www.dgmsr.de
SUMMARY:Rheumatologie (Bildgebung)
DESCRIPTION:Live-Webinar
URL:https://www.dgmsr.de/event/rheumatologie-bildgebung/
LOCATION:online / onsite
ORGANIZER;CN="R%C3%B6ntgendiagnostische Fortbildung Neuss":MAILTO:info@roentgenneuss.de
END:VEVENT
BEGIN:VEVENT
DTSTART;TZID=Europe/Berlin:20230422T080000
DTEND;TZID=Europe/Berlin:20230423T170000
DTSTAMP:20260423T125852
CREATED:20221117T132229Z
LAST-MODIFIED:20221117T132229Z
UID:10000243-1682150400-1682269200@www.dgmsr.de
SUMMARY:MRT Diagnostik muskuloskelettales System für Fortgeschrittene
DESCRIPTION:Live-Webinar
URL:https://www.dgmsr.de/event/mrt-diagnostik-muskuloskelettales-system-fuer-fortgeschrittene-2/
LOCATION:online / onsite
ORGANIZER;CN="R%C3%B6ntgendiagnostische Fortbildung Neuss":MAILTO:info@roentgenneuss.de
END:VEVENT
BEGIN:VEVENT
DTSTART;TZID=Europe/Berlin:20230204T080000
DTEND;TZID=Europe/Berlin:20230205T170000
DTSTAMP:20260423T125852
CREATED:20221117T132036Z
LAST-MODIFIED:20221117T132115Z
UID:10000242-1675497600-1675616400@www.dgmsr.de
SUMMARY:MRT Diagnostik muskuloskelettales System für Fortgeschrittene
DESCRIPTION:Live-Webinar
URL:https://www.dgmsr.de/event/mrt-diagnostik-muskuloskelettales-system-fuer-fortgeschrittene/
LOCATION:online / onsite
ORGANIZER;CN="R%C3%B6ntgendiagnostische Fortbildung Neuss":MAILTO:info@roentgenneuss.de
END:VEVENT
BEGIN:VEVENT
DTSTART;TZID=Europe/Berlin:20230121T080000
DTEND;TZID=Europe/Berlin:20230122T170000
DTSTAMP:20260423T125852
CREATED:20221104T124615Z
LAST-MODIFIED:20221104T124615Z
UID:10000240-1674288000-1674406800@www.dgmsr.de
SUMMARY:Online Kurs der Röntgendiagnostischen Fortbildung Neuss
DESCRIPTION:MRT muskuloskelettales System
URL:https://www.dgmsr.de/event/online-kurs-der-roentgendiagnostischen-fortbildung-neuss/
LOCATION:online / onsite
ORGANIZER;CN="R%C3%B6ntgendiagnostische Fortbildung Neuss":MAILTO:info@roentgenneuss.de
END:VEVENT
BEGIN:VEVENT
DTSTART;TZID=Europe/Berlin:20221112T080000
DTEND;TZID=Europe/Berlin:20221113T170000
DTSTAMP:20260423T125852
CREATED:20221117T134634Z
LAST-MODIFIED:20221117T134634Z
UID:10000247-1668240000-1668358800@www.dgmsr.de
SUMMARY:MRT Diagnostik Muskuloskelettales System Basiskurs
DESCRIPTION:Online-Wochenendkurs
URL:https://www.dgmsr.de/event/mrt-diagnostik-muskuloskelettales-system-basiskurs-2/
LOCATION:online / onsite
ORGANIZER;CN="R%C3%B6ntgendiagnostische Fortbildung Neuss":MAILTO:info@roentgenneuss.de
END:VEVENT
BEGIN:VEVENT
DTSTART;TZID=Europe/Berlin:20221112T080000
DTEND;TZID=Europe/Berlin:20221113T170000
DTSTAMP:20260423T125852
CREATED:20211223T073236Z
LAST-MODIFIED:20221117T131753Z
UID:10000228-1668240000-1668358800@www.dgmsr.de
SUMMARY:Wochenendkurs Rheumatologie
DESCRIPTION:Online
URL:https://www.dgmsr.de/event/wochenendkurs-mrt-diagnostik-muskuloskelettales-system-basiskurs-3/
LOCATION:online / onsite
ORGANIZER;CN="R%C3%B6ntgendiagnostische Fortbildung Neuss":MAILTO:info@roentgenneuss.de
END:VEVENT
BEGIN:VEVENT
DTSTART;TZID=Europe/Berlin:20220430T080000
DTEND;TZID=Europe/Berlin:20220501T170000
DTSTAMP:20260423T125852
CREATED:20211223T073019Z
LAST-MODIFIED:20211223T073300Z
UID:10000227-1651305600-1651424400@www.dgmsr.de
SUMMARY:Wochenendkurs MRT Diagnostik Muskuloskelettales System für Fortgeschrittene
DESCRIPTION:
URL:https://www.dgmsr.de/event/wochenendkurs-mrt-diagnostik-muskuloskelettales-system-fuer-fortgeschrittene-5/
LOCATION:Katholische Akademie Mülheim\, Falkenweg 6\, Mülheim an der Ruhr\, 45478\, Deutschland
ORGANIZER;CN="R%C3%B6ntgendiagnostische Fortbildung Neuss":MAILTO:info@roentgenneuss.de
GEO:51.425931;6.819337
X-APPLE-STRUCTURED-LOCATION;VALUE=URI;X-ADDRESS=Katholische Akademie Mülheim Falkenweg 6 Mülheim an der Ruhr 45478 Deutschland;X-APPLE-RADIUS=500;X-TITLE=Falkenweg 6:geo:6.819337,51.425931
END:VEVENT
BEGIN:VEVENT
DTSTART;TZID=Europe/Berlin:20220212T080000
DTEND;TZID=Europe/Berlin:20220213T170000
DTSTAMP:20260423T125852
CREATED:20211223T072859Z
LAST-MODIFIED:20211223T073113Z
UID:10000226-1644652800-1644771600@www.dgmsr.de
SUMMARY:Basiskurs MRT Diagnostik Muskuloskelettales System
DESCRIPTION:ONLINE
URL:https://www.dgmsr.de/event/basiskurs-mrt-diagnostik-muskuloskelettales-system/
LOCATION:online / onsite
ORGANIZER;CN="R%C3%B6ntgendiagnostische Fortbildung Neuss":MAILTO:info@roentgenneuss.de
END:VEVENT
BEGIN:VEVENT
DTSTART;TZID=Europe/Berlin:20211113T080000
DTEND;TZID=Europe/Berlin:20211114T170000
DTSTAMP:20260423T125852
CREATED:20210520T120248Z
LAST-MODIFIED:20210520T120248Z
UID:10000215-1636790400-1636909200@www.dgmsr.de
SUMMARY:Röntgendiagnostische Fortbildung Neuss
DESCRIPTION:MRT muskuloskelettales System Basiskurs
URL:https://www.dgmsr.de/event/roentgendiagnostische-fortbildung-neuss-4/
LOCATION:Röntgendiagnostische Fortbildung Neuss\, Neuss
ORGANIZER;CN="R%C3%B6ntgendiagnostische Fortbildung Neuss":MAILTO:info@roentgenneuss.de
GEO:51.2041968;6.6879511
END:VEVENT
BEGIN:VEVENT
DTSTART;TZID=Europe/Berlin:20210923T080000
DTEND;TZID=Europe/Berlin:20210926T170000
DTSTAMP:20260423T125852
CREATED:20210413T124423Z
LAST-MODIFIED:20210413T124423Z
UID:10000213-1632384000-1632675600@www.dgmsr.de
SUMMARY:Großer Kurs Skelettdiagnostik
DESCRIPTION:der Röntgendiagnostischen Fortbildung Neuss
URL:https://www.dgmsr.de/event/grosser-kurs-skelettdiagnostik-2/
LOCATION:Katholische Akademie Mülheim\, Falkenweg 6\, Mülheim an der Ruhr\, 45478\, Deutschland
ORGANIZER;CN="R%C3%B6ntgendiagnostische Fortbildung Neuss":MAILTO:info@roentgenneuss.de
GEO:51.425931;6.819337
X-APPLE-STRUCTURED-LOCATION;VALUE=URI;X-ADDRESS=Katholische Akademie Mülheim Falkenweg 6 Mülheim an der Ruhr 45478 Deutschland;X-APPLE-RADIUS=500;X-TITLE=Falkenweg 6:geo:6.819337,51.425931
END:VEVENT
BEGIN:VEVENT
DTSTART;TZID=Europe/Berlin:20201114T080000
DTEND;TZID=Europe/Berlin:20201115T170000
DTSTAMP:20260423T125852
CREATED:20191209T142715Z
LAST-MODIFIED:20191209T142715Z
UID:10000207-1605340800-1605459600@www.dgmsr.de
SUMMARY:Röntgendiagnostische Fortbildung Neuss
DESCRIPTION:MRT muskuloskelettales System Basiskurs
URL:https://www.dgmsr.de/event/roentgendiagnostische-fortbildung-neuss-3/
LOCATION:Katholische Akademie Mülheim\, Falkenweg 6\, Mülheim an der Ruhr\, 45478\, Deutschland
ORGANIZER;CN="R%C3%B6ntgendiagnostische Fortbildung Neuss":MAILTO:info@roentgenneuss.de
GEO:51.425931;6.819337
X-APPLE-STRUCTURED-LOCATION;VALUE=URI;X-ADDRESS=Katholische Akademie Mülheim Falkenweg 6 Mülheim an der Ruhr 45478 Deutschland;X-APPLE-RADIUS=500;X-TITLE=Falkenweg 6:geo:6.819337,51.425931
END:VEVENT
BEGIN:VEVENT
DTSTART;TZID=Europe/Berlin:20200425T080000
DTEND;TZID=Europe/Berlin:20200426T170000
DTSTAMP:20260423T125852
CREATED:20191209T142533Z
LAST-MODIFIED:20191209T142533Z
UID:10000206-1587801600-1587920400@www.dgmsr.de
SUMMARY:Röntgendiagnostische Fortbildung Neuss
DESCRIPTION:MRT muskuloskelettales System für Fortgeschrittene
URL:https://www.dgmsr.de/event/roentgendiagnostische-fortbildung-neuss-2/
LOCATION:Katholische Akademie Mülheim\, Falkenweg 6\, Mülheim an der Ruhr\, 45478\, Deutschland
ORGANIZER;CN="R%C3%B6ntgendiagnostische Fortbildung Neuss":MAILTO:info@roentgenneuss.de
GEO:51.425931;6.819337
X-APPLE-STRUCTURED-LOCATION;VALUE=URI;X-ADDRESS=Katholische Akademie Mülheim Falkenweg 6 Mülheim an der Ruhr 45478 Deutschland;X-APPLE-RADIUS=500;X-TITLE=Falkenweg 6:geo:6.819337,51.425931
END:VEVENT
BEGIN:VEVENT
DTSTART;TZID=Europe/Berlin:20200208T080000
DTEND;TZID=Europe/Berlin:20200209T170000
DTSTAMP:20260423T125852
CREATED:20191209T142327Z
LAST-MODIFIED:20191213T131048Z
UID:10000205-1581148800-1581267600@www.dgmsr.de
SUMMARY:Röntgendiagnostische Fortbildung Neuss
DESCRIPTION:MRT muskuloskelettales System für Fortgeschrittene
URL:https://www.dgmsr.de/event/roentgendiagnostische-fortbildung-neuss/
LOCATION:Katholische Akademie Mülheim\, Falkenweg 6\, Mülheim an der Ruhr\, 45478\, Deutschland
ORGANIZER;CN="R%C3%B6ntgendiagnostische Fortbildung Neuss":MAILTO:info@roentgenneuss.de
GEO:51.425931;6.819337
X-APPLE-STRUCTURED-LOCATION;VALUE=URI;X-ADDRESS=Katholische Akademie Mülheim Falkenweg 6 Mülheim an der Ruhr 45478 Deutschland;X-APPLE-RADIUS=500;X-TITLE=Falkenweg 6:geo:6.819337,51.425931
END:VEVENT
BEGIN:VEVENT
DTSTART;TZID=Europe/Helsinki:20191116T080000
DTEND;TZID=Europe/Helsinki:20191117T170000
DTSTAMP:20260423T125852
CREATED:20190106T191837Z
LAST-MODIFIED:20190106T191848Z
UID:10000194-1573891200-1574010000@www.dgmsr.de
SUMMARY:Wochenendkurs MRT-Diagnostik muskuloskelettales System (Basiskurs)
DESCRIPTION:
URL:https://www.dgmsr.de/event/wochenendkurs-mrt-diagnostik-muskuloskelettales-system-basiskurs/
LOCATION:Commundo Tagungshotel Neuss\, Humboldtstraße 2\,  Neuss\, 41468\, Deutschland
ORGANIZER;CN="R%C3%B6ntgendiagnostische Fortbildung Neuss":MAILTO:info@roentgenneuss.de
GEO:51.1847638;6.7234163
X-APPLE-STRUCTURED-LOCATION;VALUE=URI;X-ADDRESS=Commundo Tagungshotel Neuss Humboldtstraße 2  Neuss 41468 Deutschland;X-APPLE-RADIUS=500;X-TITLE=Humboldtstraße 2:geo:6.7234163,51.1847638
END:VEVENT
BEGIN:VEVENT
DTSTART;TZID=Europe/Helsinki:20190912T080000
DTEND;TZID=Europe/Helsinki:20190915T170000
DTSTAMP:20260423T125852
CREATED:20190106T191657Z
LAST-MODIFIED:20190106T191707Z
UID:10000193-1568275200-1568566800@www.dgmsr.de
SUMMARY:Großer Kurs Skelettdiagnostik
DESCRIPTION:
URL:https://www.dgmsr.de/event/grosser-kurs-skelettdiagnostik/
LOCATION:Commundo Tagungshotel Neuss\, Humboldtstraße 2\,  Neuss\, 41468\, Deutschland
ORGANIZER;CN="R%C3%B6ntgendiagnostische Fortbildung Neuss":MAILTO:info@roentgenneuss.de
GEO:51.1847638;6.7234163
X-APPLE-STRUCTURED-LOCATION;VALUE=URI;X-ADDRESS=Commundo Tagungshotel Neuss Humboldtstraße 2  Neuss 41468 Deutschland;X-APPLE-RADIUS=500;X-TITLE=Humboldtstraße 2:geo:6.7234163,51.1847638
END:VEVENT
BEGIN:VEVENT
DTSTART;TZID=Europe/Helsinki:20190504T080000
DTEND;TZID=Europe/Helsinki:20190505T170000
DTSTAMP:20260423T125852
CREATED:20190106T191531Z
LAST-MODIFIED:20190107T123153Z
UID:10000192-1556956800-1557075600@www.dgmsr.de
SUMMARY:Wochenendkurs MRT-Diagnostik muskuloskelettales System für Fortgeschrittene
DESCRIPTION:
URL:https://www.dgmsr.de/event/wochenendkurs-mrt-diagnostik-muskuloskelettales-system-fuer-fortgeschrittene-4/
LOCATION:Commundo Tagungshotel Neuss\, Humboldtstraße 2\,  Neuss\, 41468\, Deutschland
ORGANIZER;CN="R%C3%B6ntgendiagnostische Fortbildung Neuss":MAILTO:info@roentgenneuss.de
GEO:51.1847638;6.7234163
X-APPLE-STRUCTURED-LOCATION;VALUE=URI;X-ADDRESS=Commundo Tagungshotel Neuss Humboldtstraße 2  Neuss 41468 Deutschland;X-APPLE-RADIUS=500;X-TITLE=Humboldtstraße 2:geo:6.7234163,51.1847638
END:VEVENT
END:VCALENDAR