BEGIN:VCALENDAR
VERSION:2.0
PRODID:-//DGMSR e.V. - ECPv6.13.2.1//NONSGML v1.0//EN
CALSCALE:GREGORIAN
METHOD:PUBLISH
X-ORIGINAL-URL:https://www.dgmsr.de
X-WR-CALDESC:Veranstaltungen für DGMSR e.V.
REFRESH-INTERVAL;VALUE=DURATION:PT1H
X-Robots-Tag:noindex
X-PUBLISHED-TTL:PT1H
BEGIN:VTIMEZONE
TZID:Europe/Berlin
BEGIN:DAYLIGHT
TZOFFSETFROM:+0100
TZOFFSETTO:+0200
TZNAME:CEST
DTSTART:20240331T010000
END:DAYLIGHT
BEGIN:STANDARD
TZOFFSETFROM:+0200
TZOFFSETTO:+0100
TZNAME:CET
DTSTART:20241027T010000
END:STANDARD
END:VTIMEZONE
BEGIN:VEVENT
DTSTART;TZID=Europe/Berlin:20241121T080000
DTEND;TZID=Europe/Berlin:20241122T170000
DTSTAMP:20260422T200401
CREATED:20231022T084039Z
LAST-MODIFIED:20231121T081437Z
UID:10000262-1732176000-1732294800@www.dgmsr.de
SUMMARY:Seminar für Skelettradiologie
DESCRIPTION:Training in Muskuloskelettaler Radiologie :  Primäre Knochentumoren
URL:https://www.dgmsr.de/event/seminar-fuer-skelettradiologie/
LOCATION:Klinikum rechts der Isar der TU München\, Trogerstrasse 18\, München\, 81675\, Deutschland
GEO:48.1372756;11.6023145
X-APPLE-STRUCTURED-LOCATION;VALUE=URI;X-ADDRESS=Klinikum rechts der Isar der TU München Trogerstrasse 18 München 81675 Deutschland;X-APPLE-RADIUS=500;X-TITLE=Trogerstrasse 18:geo:11.6023145,48.1372756
END:VEVENT
END:VCALENDAR