BEGIN:VCALENDAR
VERSION:2.0
PRODID:-//DGMSR e.V. - ECPv6.13.2.1//NONSGML v1.0//EN
CALSCALE:GREGORIAN
METHOD:PUBLISH
X-WR-CALNAME:DGMSR e.V.
X-ORIGINAL-URL:https://www.dgmsr.de
X-WR-CALDESC:Veranstaltungen für DGMSR e.V.
REFRESH-INTERVAL;VALUE=DURATION:PT1H
X-Robots-Tag:noindex
X-PUBLISHED-TTL:PT1H
BEGIN:VTIMEZONE
TZID:Europe/Berlin
BEGIN:DAYLIGHT
TZOFFSETFROM:+0100
TZOFFSETTO:+0200
TZNAME:CEST
DTSTART:20180325T010000
END:DAYLIGHT
BEGIN:STANDARD
TZOFFSETFROM:+0200
TZOFFSETTO:+0100
TZNAME:CET
DTSTART:20181028T010000
END:STANDARD
BEGIN:DAYLIGHT
TZOFFSETFROM:+0100
TZOFFSETTO:+0200
TZNAME:CEST
DTSTART:20190331T010000
END:DAYLIGHT
BEGIN:STANDARD
TZOFFSETFROM:+0200
TZOFFSETTO:+0100
TZNAME:CET
DTSTART:20191027T010000
END:STANDARD
BEGIN:DAYLIGHT
TZOFFSETFROM:+0100
TZOFFSETTO:+0200
TZNAME:CEST
DTSTART:20200329T010000
END:DAYLIGHT
BEGIN:STANDARD
TZOFFSETFROM:+0200
TZOFFSETTO:+0100
TZNAME:CET
DTSTART:20201025T010000
END:STANDARD
BEGIN:DAYLIGHT
TZOFFSETFROM:+0100
TZOFFSETTO:+0200
TZNAME:CEST
DTSTART:20210328T010000
END:DAYLIGHT
BEGIN:STANDARD
TZOFFSETFROM:+0200
TZOFFSETTO:+0100
TZNAME:CET
DTSTART:20211031T010000
END:STANDARD
BEGIN:DAYLIGHT
TZOFFSETFROM:+0100
TZOFFSETTO:+0200
TZNAME:CEST
DTSTART:20220327T010000
END:DAYLIGHT
BEGIN:STANDARD
TZOFFSETFROM:+0200
TZOFFSETTO:+0100
TZNAME:CET
DTSTART:20221030T010000
END:STANDARD
BEGIN:DAYLIGHT
TZOFFSETFROM:+0100
TZOFFSETTO:+0200
TZNAME:CEST
DTSTART:20230326T010000
END:DAYLIGHT
BEGIN:STANDARD
TZOFFSETFROM:+0200
TZOFFSETTO:+0100
TZNAME:CET
DTSTART:20231029T010000
END:STANDARD
BEGIN:DAYLIGHT
TZOFFSETFROM:+0100
TZOFFSETTO:+0200
TZNAME:CEST
DTSTART:20240331T010000
END:DAYLIGHT
BEGIN:STANDARD
TZOFFSETFROM:+0200
TZOFFSETTO:+0100
TZNAME:CET
DTSTART:20241027T010000
END:STANDARD
END:VTIMEZONE
BEGIN:VTIMEZONE
TZID:Europe/Helsinki
BEGIN:DAYLIGHT
TZOFFSETFROM:+0200
TZOFFSETTO:+0300
TZNAME:EEST
DTSTART:20180325T010000
END:DAYLIGHT
BEGIN:STANDARD
TZOFFSETFROM:+0300
TZOFFSETTO:+0200
TZNAME:EET
DTSTART:20181028T010000
END:STANDARD
END:VTIMEZONE
BEGIN:VEVENT
DTSTART;TZID=Europe/Berlin:20240915T080000
DTEND;TZID=Europe/Berlin:20240920T170000
DTSTAMP:20260422T181739
CREATED:20240603T091430Z
LAST-MODIFIED:20240603T091430Z
UID:10000274-1726387200-1726851600@www.dgmsr.de
SUMMARY:50th Annual Musculoskeletal Diagnostics Meeting
DESCRIPTION:
URL:https://www.dgmsr.de/event/50th-annual-musculoskeletal-diagnostics-meeting/
LOCATION:Le Centre Sheraton Montreal Hotel\, Chemin Herron\, Dorval\, Montréal\, H9S 2B6\, Canada
ORGANIZER;CN="International Skeletal Society":MAILTO:info@internationalskeletalsociety.com
GEO:45.448585;-73.7631244
X-APPLE-STRUCTURED-LOCATION;VALUE=URI;X-ADDRESS=Le Centre Sheraton Montreal Hotel Chemin Herron Dorval Montréal H9S 2B6 Canada;X-APPLE-RADIUS=500;X-TITLE=Chemin Herron:geo:-73.7631244,45.448585
END:VEVENT
BEGIN:VEVENT
DTSTART;TZID=Europe/Berlin:20231007T080000
DTEND;TZID=Europe/Berlin:20231013T170000
DTSTAMP:20260422T181739
CREATED:20220117T074334Z
LAST-MODIFIED:20230531T160514Z
UID:10000230-1696665600-1697216400@www.dgmsr.de
SUMMARY:ALL MSK Meeting
DESCRIPTION:hosted by the ISS and including all international MSK specialty societies. \n*ermäßigte Teilnahmegebühr für DGMSR Mitglieder
URL:https://www.dgmsr.de/event/all-msk-meeting/
LOCATION:Queen Elizabeth II Convention Center\, London\, Großbritannien (Vereinigtes Königreich)
ORGANIZER;CN="International Skeletal Society":MAILTO:info@internationalskeletalsociety.com
GEO:51.5072178;-0.1275862
END:VEVENT
BEGIN:VEVENT
DTSTART;TZID=Europe/Berlin:20221023T080000
DTEND;TZID=Europe/Berlin:20221028T170000
DTSTAMP:20260422T181739
CREATED:20220117T074122Z
LAST-MODIFIED:20220117T074122Z
UID:10000229-1666512000-1666976400@www.dgmsr.de
SUMMARY:Annual Meeting of the International Skeletal Society (ISS)
DESCRIPTION:
URL:https://www.dgmsr.de/event/annual-meeting-of-the-international-skeletal-society-iss/
LOCATION:Hotel Arts Barcelona\, Carrer de la Marina 19\, 21\, Barcelona\, 08005\, Spanien
ORGANIZER;CN="International Skeletal Society":MAILTO:info@internationalskeletalsociety.com
GEO:41.3870483;2.1964703
X-APPLE-STRUCTURED-LOCATION;VALUE=URI;X-ADDRESS=Hotel Arts Barcelona Carrer de la Marina 19 21 Barcelona 08005 Spanien;X-APPLE-RADIUS=500;X-TITLE=Carrer de la Marina 19\, 21:geo:2.1964703,41.3870483
END:VEVENT
BEGIN:VEVENT
DTSTART;VALUE=DATE:20180926
DTEND;VALUE=DATE:20180929
DTSTAMP:20260422T181739
CREATED:20170817T070757Z
LAST-MODIFIED:20180724T081558Z
UID:10000161-1537920000-1538179199@www.dgmsr.de
SUMMARY:International Skeletal Society
DESCRIPTION:45th Annual Meeting And Musculoskeletal Imaging Course: Fundamentals To Advanced Concepts \nmit Unterstützung und in Zusammenarbeit mit der Deutschen Gesellschaft für Muskuloskelettale Radiologie \nAnmeldung bitte an: \nhttps://internationalskeletalsociety.com/meetings/annual-meeting/public-registration \nBesondere Teilnahmegebühr für DGMSR-Mitglieder von $ 390.00 (anstelle $ 820.00) \nBitte geben Sie bei der Anmeldung Ihre DGMSR-Mitglied Nummer an
URL:https://www.dgmsr.de/event/international-skeletal-society/
LOCATION:Berlin\, Berlin\, Deutschland
ORGANIZER;CN="International Skeletal Society":MAILTO:info@internationalskeletalsociety.com
GEO:52.5200066;13.404954
END:VEVENT
BEGIN:VEVENT
DTSTART;VALUE=DATE:20180411
DTEND;VALUE=DATE:20180413
DTSTAMP:20260422T181739
CREATED:20170821T124315Z
LAST-MODIFIED:20171227T160915Z
UID:10000162-1523404800-1523577599@www.dgmsr.de
SUMMARY:Gemeinsamer Kurs des ISS Outreach Programmes und der DGMSR
DESCRIPTION:Essentials der Muskuloskelettalen Radiologie\n– AUSGEBUCHT – \nAnmeldung ISS Kurs
URL:https://www.dgmsr.de/event/gemeinsamer-kurs-des-iss-outreach-programmes-und-der-dgmsr/
LOCATION:Berlin\, Berlin\, Deutschland
ORGANIZER;CN="DGMSR":MAILTO:info@dgmsr.de
GEO:52.5200066;13.404954
END:VEVENT
END:VCALENDAR