BEGIN:VCALENDAR
VERSION:2.0
PRODID:-//DGMSR e.V. - ECPv6.13.2.1//NONSGML v1.0//EN
CALSCALE:GREGORIAN
METHOD:PUBLISH
X-ORIGINAL-URL:https://www.dgmsr.de
X-WR-CALDESC:Veranstaltungen für DGMSR e.V.
REFRESH-INTERVAL;VALUE=DURATION:PT1H
X-Robots-Tag:noindex
X-PUBLISHED-TTL:PT1H
BEGIN:VTIMEZONE
TZID:Europe/Berlin
BEGIN:DAYLIGHT
TZOFFSETFROM:+0100
TZOFFSETTO:+0200
TZNAME:CEST
DTSTART:20250330T010000
END:DAYLIGHT
BEGIN:STANDARD
TZOFFSETFROM:+0200
TZOFFSETTO:+0100
TZNAME:CET
DTSTART:20251026T010000
END:STANDARD
END:VTIMEZONE
BEGIN:VTIMEZONE
TZID:Europe/Helsinki
BEGIN:DAYLIGHT
TZOFFSETFROM:+0200
TZOFFSETTO:+0300
TZNAME:EEST
DTSTART:20170326T010000
END:DAYLIGHT
BEGIN:STANDARD
TZOFFSETFROM:+0300
TZOFFSETTO:+0200
TZNAME:EET
DTSTART:20171029T010000
END:STANDARD
BEGIN:DAYLIGHT
TZOFFSETFROM:+0200
TZOFFSETTO:+0300
TZNAME:EEST
DTSTART:20180325T010000
END:DAYLIGHT
BEGIN:STANDARD
TZOFFSETFROM:+0300
TZOFFSETTO:+0200
TZNAME:EET
DTSTART:20181028T010000
END:STANDARD
BEGIN:DAYLIGHT
TZOFFSETFROM:+0200
TZOFFSETTO:+0300
TZNAME:EEST
DTSTART:20190331T010000
END:DAYLIGHT
BEGIN:STANDARD
TZOFFSETFROM:+0300
TZOFFSETTO:+0200
TZNAME:EET
DTSTART:20191027T010000
END:STANDARD
END:VTIMEZONE
BEGIN:VEVENT
DTSTART;TZID=Europe/Berlin:20251120T080000
DTEND;TZID=Europe/Berlin:20251121T170000
DTSTAMP:20260423T125913
CREATED:20241008T123351Z
LAST-MODIFIED:20241008T123351Z
UID:10000281-1763625600-1763744400@www.dgmsr.de
SUMMARY:Seminar für Skelettradiologie
DESCRIPTION:
URL:https://www.dgmsr.de/event/seminar-fuer-skelettradiologie-2/
LOCATION:Klinikum rechts der Isar der TU München\, Trogerstrasse 18\, München\, 81675\, Deutschland
ORGANIZER;CN="Consulting Healthcare Hollmer":MAILTO:info@dgmsr.de
GEO:48.1372756;11.6023145
X-APPLE-STRUCTURED-LOCATION;VALUE=URI;X-ADDRESS=Klinikum rechts der Isar der TU München Trogerstrasse 18 München 81675 Deutschland;X-APPLE-RADIUS=500;X-TITLE=Trogerstrasse 18:geo:11.6023145,48.1372756
END:VEVENT
BEGIN:VEVENT
DTSTART;VALUE=DATE:20190309
DTEND;VALUE=DATE:20190310
DTSTAMP:20260423T125913
CREATED:20181203T162824Z
LAST-MODIFIED:20181203T162824Z
UID:10000189-1552089600-1552175999@www.dgmsr.de
SUMMARY:Gelenkseminar - On Tour
DESCRIPTION:Thema: Radiologie der Hand und des Handgelenks – Training in der Lösung praxisrelevanter Fälle
URL:https://www.dgmsr.de/event/gelenkseminar-on-tour/
LOCATION:Mövenpick Hotel Münster\, Kardinal-von-Galen-Ring 65\, Münster\, Nordrhein-Westfalen\, 48149\, Deutschland
ORGANIZER;CN="Consulting Healthcare Hollmer":MAILTO:info@dgmsr.de
GEO:51.9555087;7.6052192
X-APPLE-STRUCTURED-LOCATION;VALUE=URI;X-ADDRESS=Mövenpick Hotel Münster Kardinal-von-Galen-Ring 65 Münster Nordrhein-Westfalen 48149 Deutschland;X-APPLE-RADIUS=500;X-TITLE=Kardinal-von-Galen-Ring 65:geo:7.6052192,51.9555087
END:VEVENT
BEGIN:VEVENT
DTSTART;VALUE=DATE:20171117
DTEND;VALUE=DATE:20171119
DTSTAMP:20260423T125913
CREATED:20161018T184324Z
LAST-MODIFIED:20171112T004152Z
UID:10000149-1510876800-1511049599@www.dgmsr.de
SUMMARY:Augsburg-Münchner Gelenk- und Skelettseminare 2017 (Thema: Becken und Hüfte) - AUSGEBUCHT
DESCRIPTION:
URL:https://www.dgmsr.de/event/augsburg-muenchner-gelenk-und-skelettseminare-2017/
LOCATION:GE Healthcare Akademisches Trainingszentrum\, Oskar-Schlemmer-Straße 11\, München\, 80807\, Deutschland
ORGANIZER;CN="Consulting Healthcare Hollmer":MAILTO:info@dgmsr.de
GEO:48.1792732;11.5946809
X-APPLE-STRUCTURED-LOCATION;VALUE=URI;X-ADDRESS=GE Healthcare Akademisches Trainingszentrum Oskar-Schlemmer-Straße 11 München 80807 Deutschland;X-APPLE-RADIUS=500;X-TITLE=Oskar-Schlemmer-Straße 11:geo:11.5946809,48.1792732
END:VEVENT
BEGIN:VEVENT
DTSTART;VALUE=DATE:20170918
DTEND;VALUE=DATE:20170923
DTSTAMP:20260423T125913
CREATED:20161223T194445Z
LAST-MODIFIED:20171112T004153Z
UID:10000156-1505692800-1506124799@www.dgmsr.de
SUMMARY:Trainingskurs MSK Radiologie - AUSGEBUCHT
DESCRIPTION:
URL:https://www.dgmsr.de/event/trainingskurs-msk-radiologie/
LOCATION:Lindner Resort Portals Nous\, Arquitecto Francisco Casas 18\, Portals Nous\, 07181\, Spanien
ORGANIZER;CN="Consulting Healthcare Hollmer":MAILTO:info@dgmsr.de
GEO:39.5417424;2.5861867
X-APPLE-STRUCTURED-LOCATION;VALUE=URI;X-ADDRESS=Lindner Resort Portals Nous Arquitecto Francisco Casas 18 Portals Nous 07181 Spanien;X-APPLE-RADIUS=500;X-TITLE=Arquitecto Francisco Casas 18:geo:2.5861867,39.5417424
END:VEVENT
BEGIN:VEVENT
DTSTART;VALUE=DATE:20170707
DTEND;VALUE=DATE:20170709
DTSTAMP:20260423T125913
CREATED:20161223T193908Z
LAST-MODIFIED:20171112T004153Z
UID:10000155-1499385600-1499558399@www.dgmsr.de
SUMMARY:Augsburg-Münchner Gelenk- und Skelettseminare 2017 (Thema: Becken und Hüfte)
DESCRIPTION:
URL:https://www.dgmsr.de/event/augsburg-muenchner-gelenk-und-skelettseminare-2017-2/
LOCATION:GE Healthcare Akademisches Trainingszentrum\, Oskar-Schlemmer-Straße 11\, München\, 80807\, Deutschland
ORGANIZER;CN="Consulting Healthcare Hollmer":MAILTO:info@dgmsr.de
GEO:48.1792732;11.5946809
X-APPLE-STRUCTURED-LOCATION;VALUE=URI;X-ADDRESS=GE Healthcare Akademisches Trainingszentrum Oskar-Schlemmer-Straße 11 München 80807 Deutschland;X-APPLE-RADIUS=500;X-TITLE=Oskar-Schlemmer-Straße 11:geo:11.5946809,48.1792732
END:VEVENT
BEGIN:VEVENT
DTSTART;TZID=Europe/Helsinki:20170428T130000
DTEND;TZID=Europe/Helsinki:20170429T170000
DTSTAMP:20260423T125913
CREATED:20161018T183018Z
LAST-MODIFIED:20171112T004152Z
UID:10000145-1493384400-1493485200@www.dgmsr.de
SUMMARY:3. Jahrestagung der DGMSR - AUSGEBUCHT
DESCRIPTION:
URL:https://www.dgmsr.de/event/3-jahrestagung-der-dgmsr/
LOCATION:Hotel Aquino Tagungszentrum\, Hannoversche Straße 5b\, Berlin\, 10115\, Deutschland
CATEGORIES:Jahrestagung
ORGANIZER;CN="Consulting Healthcare Hollmer":MAILTO:info@dgmsr.de
GEO:52.5270875;13.3847291
X-APPLE-STRUCTURED-LOCATION;VALUE=URI;X-ADDRESS=Hotel Aquino Tagungszentrum Hannoversche Straße 5b Berlin 10115 Deutschland;X-APPLE-RADIUS=500;X-TITLE=Hannoversche Straße 5b:geo:13.3847291,52.5270875
END:VEVENT
BEGIN:VEVENT
DTSTART;TZID=Europe/Helsinki:20170428T090000
DTEND;TZID=Europe/Helsinki:20170428T123000
DTSTAMP:20260423T125913
CREATED:20161223T184258Z
LAST-MODIFIED:20171112T004153Z
UID:10000150-1493370000-1493382600@www.dgmsr.de
SUMMARY:Hands-On Workshop Muskuloskelettaler Ultraschall im Rahmen der Jahrestagung der DGMSR
DESCRIPTION:Anmeldung zur Jahrestagung/zum Ultraschallkurs bitte als E-Mail mit Angabe Ihrer Anschrift an: info@dgmsr.de \nHotelreservierungformular Hotel Best Western in der Albrechtstrasse (PDF)
URL:https://www.dgmsr.de/event/hands-on-workshop-muskuloskelettaler-ultraschall-im-rahmen-der-jahrestagung-der-dgmsr/
LOCATION:Hotel Aquino Tagungszentrum\, Hannoversche Straße 5b\, Berlin\, 10115\, Deutschland
ORGANIZER;CN="Consulting Healthcare Hollmer":MAILTO:info@dgmsr.de
GEO:52.5270875;13.3847291
X-APPLE-STRUCTURED-LOCATION;VALUE=URI;X-ADDRESS=Hotel Aquino Tagungszentrum Hannoversche Straße 5b Berlin 10115 Deutschland;X-APPLE-RADIUS=500;X-TITLE=Hannoversche Straße 5b:geo:13.3847291,52.5270875
END:VEVENT
END:VCALENDAR