BEGIN:VCALENDAR
VERSION:2.0
PRODID:-//DGMSR e.V. - ECPv6.13.2.1//NONSGML v1.0//EN
CALSCALE:GREGORIAN
METHOD:PUBLISH
X-ORIGINAL-URL:https://www.dgmsr.de
X-WR-CALDESC:Veranstaltungen für DGMSR e.V.
REFRESH-INTERVAL;VALUE=DURATION:PT1H
X-Robots-Tag:noindex
X-PUBLISHED-TTL:PT1H
BEGIN:VTIMEZONE
TZID:Europe/Helsinki
BEGIN:DAYLIGHT
TZOFFSETFROM:+0200
TZOFFSETTO:+0300
TZNAME:EEST
DTSTART:20200329T010000
END:DAYLIGHT
BEGIN:STANDARD
TZOFFSETFROM:+0300
TZOFFSETTO:+0200
TZNAME:EET
DTSTART:20201025T010000
END:STANDARD
END:VTIMEZONE
BEGIN:VEVENT
DTSTART;TZID=Europe/Helsinki:20200203T080000
DTEND;TZID=Europe/Helsinki:20200207T170000
DTSTAMP:20260423T013216
CREATED:20190805T092105Z
LAST-MODIFIED:20191025T074005Z
UID:10000133-1580716800-1581094800@www.dgmsr.de
SUMMARY:EMRI Erasmus Course
DESCRIPTION:Musculoskeletal MRI: Joints – from Finger to Toe \n– AUSGEBUCHT –
URL:https://www.dgmsr.de/event/emri-erasmus-course/
LOCATION:Alfried Krupp Krankenhaus Essen\, Alfried-Krupp-Straße 21\, Essen\, 45131\, Deutschland
ORGANIZER;CN="C. Glaser%2C M%C3%BCnchen%3B S. Waldt%2C Essen":MAILTO:yvonne@hollmer-wor.de
GEO:51.4262613;7.0078635
X-APPLE-STRUCTURED-LOCATION;VALUE=URI;X-ADDRESS=Alfried Krupp Krankenhaus Essen Alfried-Krupp-Straße 21 Essen 45131 Deutschland;X-APPLE-RADIUS=500;X-TITLE=Alfried-Krupp-Straße 21:geo:7.0078635,51.4262613
END:VEVENT
END:VCALENDAR