BEGIN:VCALENDAR
VERSION:2.0
PRODID:-//DGMSR e.V. - ECPv6.13.2.1//NONSGML v1.0//EN
CALSCALE:GREGORIAN
METHOD:PUBLISH
X-ORIGINAL-URL:https://www.dgmsr.de
X-WR-CALDESC:Veranstaltungen für DGMSR e.V.
REFRESH-INTERVAL;VALUE=DURATION:PT1H
X-Robots-Tag:noindex
X-PUBLISHED-TTL:PT1H
BEGIN:VTIMEZONE
TZID:Europe/Berlin
BEGIN:DAYLIGHT
TZOFFSETFROM:+0100
TZOFFSETTO:+0200
TZNAME:CEST
DTSTART:20260329T010000
END:DAYLIGHT
BEGIN:STANDARD
TZOFFSETFROM:+0200
TZOFFSETTO:+0100
TZNAME:CET
DTSTART:20261025T010000
END:STANDARD
END:VTIMEZONE
BEGIN:VEVENT
DTSTART;TZID=Europe/Berlin:20260424T080000
DTEND;TZID=Europe/Berlin:20260424T170000
DTSTAMP:20260422T160830
CREATED:20251201T075746Z
LAST-MODIFIED:20260212T082454Z
UID:10000315-1777017600-1777050000@www.dgmsr.de
SUMMARY:Berlin Rheuma Day
DESCRIPTION:DGMSR-Mitglieder haben 30€ Nachlass\, Gutscheincode RD26DGMSR
URL:https://www.dgmsr.de/event/berlin-rheuma-day/
LOCATION:Hotel Aquino Tagungszentrum\, Hannoversche Straße 5b\, Berlin\, 10115\, Deutschland
GEO:52.5270875;13.3847291
X-APPLE-STRUCTURED-LOCATION;VALUE=URI;X-ADDRESS=Hotel Aquino Tagungszentrum Hannoversche Straße 5b Berlin 10115 Deutschland;X-APPLE-RADIUS=500;X-TITLE=Hannoversche Straße 5b:geo:13.3847291,52.5270875
END:VEVENT
BEGIN:VEVENT
DTSTART;TZID=Europe/Berlin:20260425T080000
DTEND;TZID=Europe/Berlin:20260426T170000
DTSTAMP:20260422T160830
CREATED:20251202T064625Z
LAST-MODIFIED:20251202T064625Z
UID:10000319-1777104000-1777222800@www.dgmsr.de
SUMMARY:MRT Diagnostik muskuloskelettales System für Fortgeschrittene
DESCRIPTION:
URL:https://www.dgmsr.de/event/mrt-diagnostik-muskuloskelettales-system-fuer-fortgeschrittene-6/
LOCATION:online
ORGANIZER;CN="R%C3%B6ntgendiagnostische Fortbildung Neuss":MAILTO:info@roentgenneuss.de
END:VEVENT
BEGIN:VEVENT
DTSTART;TZID=Europe/Berlin:20260425T080000
DTEND;TZID=Europe/Berlin:20260426T170000
DTSTAMP:20260422T160830
CREATED:20251202T064726Z
LAST-MODIFIED:20251202T064726Z
UID:10000320-1777104000-1777222800@www.dgmsr.de
SUMMARY:Rheumatologie
DESCRIPTION:Bildgebung
URL:https://www.dgmsr.de/event/rheumatologie/
LOCATION:online
ORGANIZER;CN="R%C3%B6ntgendiagnostische Fortbildung Neuss":MAILTO:info@roentgenneuss.de
END:VEVENT
END:VCALENDAR