BEGIN:VCALENDAR
VERSION:2.0
PRODID:-//DGMSR e.V. - ECPv6.13.2.1//NONSGML v1.0//EN
CALSCALE:GREGORIAN
METHOD:PUBLISH
X-WR-CALNAME:DGMSR e.V.
X-ORIGINAL-URL:https://www.dgmsr.de
X-WR-CALDESC:Veranstaltungen für DGMSR e.V.
REFRESH-INTERVAL;VALUE=DURATION:PT1H
X-Robots-Tag:noindex
X-PUBLISHED-TTL:PT1H
BEGIN:VTIMEZONE
TZID:Europe/Berlin
BEGIN:DAYLIGHT
TZOFFSETFROM:+0100
TZOFFSETTO:+0200
TZNAME:CEST
DTSTART:20260329T010000
END:DAYLIGHT
BEGIN:STANDARD
TZOFFSETFROM:+0200
TZOFFSETTO:+0100
TZNAME:CET
DTSTART:20261025T010000
END:STANDARD
END:VTIMEZONE
BEGIN:VEVENT
DTSTART;TZID=Europe/Berlin:20260228T080000
DTEND;TZID=Europe/Berlin:20260301T170000
DTSTAMP:20260422T180238
CREATED:20251202T064437Z
LAST-MODIFIED:20251202T064437Z
UID:10000318-1772265600-1772384400@www.dgmsr.de
SUMMARY:MRT Diagnostik muskuloskelettales System für Fortgeschrittene
DESCRIPTION:
URL:https://www.dgmsr.de/event/mrt-diagnostik-muskuloskelettales-system-fuer-fortgeschrittene-5/
LOCATION:online
ORGANIZER;CN="R%C3%B6ntgendiagnostische Fortbildung Neuss":MAILTO:info@roentgenneuss.de
END:VEVENT
BEGIN:VEVENT
DTSTART;VALUE=DATE:20260314
DTEND;VALUE=DATE:20260315
DTSTAMP:20260422T180238
CREATED:20251020T131013Z
LAST-MODIFIED:20260312T192013Z
UID:10000311-1773446400-1773532799@www.dgmsr.de
SUMMARY:Frühjahrskurs der DGMSR - MSK kikk
DESCRIPTION:Zur Anmeldung \n  \nDie Veranstaltung ist AUSGEBUCHT
URL:https://www.dgmsr.de/event/fruehjahrstagung-der-dgmsr/
LOCATION:Dorint Hotel Erfurt\, Theaterplatz 2\, Erfurt\, 88974
ORGANIZER;CN="DGMSR":MAILTO:info@dgmsr.de
GEO:50.9755415;11.0189894
X-APPLE-STRUCTURED-LOCATION;VALUE=URI;X-ADDRESS=Dorint Hotel Erfurt Theaterplatz 2 Erfurt 88974;X-APPLE-RADIUS=500;X-TITLE=Theaterplatz 2:geo:11.0189894,50.9755415
END:VEVENT
BEGIN:VEVENT
DTSTART;TZID=Europe/Berlin:20260322T080000
DTEND;TZID=Europe/Berlin:20260326T170000
DTSTAMP:20260422T180238
CREATED:20251202T064111Z
LAST-MODIFIED:20251202T064111Z
UID:10000316-1774166400-1774544400@www.dgmsr.de
SUMMARY:56th IDKD Davos 2026 - Musculoskeletal Diseases
DESCRIPTION:
URL:https://www.dgmsr.de/event/56th-idkd-davos-2026-musculoskeletal-diseases/
LOCATION:Davos-Platz\, Talstrasse 49A\, Davos-Platz\, 7270\, Switzerland
ORGANIZER;CN="IDKD Office":MAILTO:info@idkd.org
GEO:46.7987061;9.829392
X-APPLE-STRUCTURED-LOCATION;VALUE=URI;X-ADDRESS=Davos-Platz Talstrasse 49A Davos-Platz 7270 Switzerland;X-APPLE-RADIUS=500;X-TITLE=Talstrasse 49A:geo:9.829392,46.7987061
END:VEVENT
END:VCALENDAR