BEGIN:VCALENDAR
VERSION:2.0
PRODID:-//DGMSR e.V. - ECPv6.13.2.1//NONSGML v1.0//EN
CALSCALE:GREGORIAN
METHOD:PUBLISH
X-ORIGINAL-URL:https://www.dgmsr.de
X-WR-CALDESC:Veranstaltungen für DGMSR e.V.
REFRESH-INTERVAL;VALUE=DURATION:PT1H
X-Robots-Tag:noindex
X-PUBLISHED-TTL:PT1H
BEGIN:VTIMEZONE
TZID:Europe/Berlin
BEGIN:DAYLIGHT
TZOFFSETFROM:+0100
TZOFFSETTO:+0200
TZNAME:CEST
DTSTART:20260329T010000
END:DAYLIGHT
BEGIN:STANDARD
TZOFFSETFROM:+0200
TZOFFSETTO:+0100
TZNAME:CET
DTSTART:20261025T010000
END:STANDARD
BEGIN:DAYLIGHT
TZOFFSETFROM:+0100
TZOFFSETTO:+0200
TZNAME:CEST
DTSTART:20270328T010000
END:DAYLIGHT
BEGIN:STANDARD
TZOFFSETFROM:+0200
TZOFFSETTO:+0100
TZNAME:CET
DTSTART:20271031T010000
END:STANDARD
END:VTIMEZONE
BEGIN:VEVENT
DTSTART;TZID=Europe/Berlin:20260904T090000
DTEND;TZID=Europe/Berlin:20260905T160000
DTSTAMP:20260423T005825
CREATED:20260410T114056Z
LAST-MODIFIED:20260410T114056Z
UID:10000323-1788512400-1788624000@www.dgmsr.de
SUMMARY:Balgrist MR-Kurs der Gelenke
DESCRIPTION:Interaktiver MR-Kurs
URL:https://www.dgmsr.de/event/balgrist-mr-kurs-der-gelenke-6/
LOCATION:Balgrist\, Zürich\, Universitätsklinik\, Balgrist\, Zürich\, 8006\, Schweiz
ORGANIZER;CN="Universit%C3%A4t Balgrist":MAILTO:kongresse@balgrist.ch
GEO:47.35326;8.5750437
X-APPLE-STRUCTURED-LOCATION;VALUE=URI;X-ADDRESS=Balgrist Zürich Universitätsklinik Balgrist Zürich 8006 Schweiz;X-APPLE-RADIUS=500;X-TITLE=Universitätsklinik:geo:8.5750437,47.35326
END:VEVENT
BEGIN:VEVENT
DTSTART;TZID=Europe/Berlin:20261005T080000
DTEND;TZID=Europe/Berlin:20261009T170000
DTSTAMP:20260423T005825
CREATED:20251017T081942Z
LAST-MODIFIED:20260309T102145Z
UID:10000307-1791187200-1791565200@www.dgmsr.de
SUMMARY:10. Trainingswoche der DGMSR 2026
DESCRIPTION:Zur Anmeldung >>
URL:https://www.dgmsr.de/event/10-trainingswoche-der-dgmsr-2026/
LOCATION:Hotel Son Caliu Mallorca\, Avenida Son Caliu 8\, Son Caliu\, Calvia\, 07181\, Spanien
ORGANIZER;CN="DGMSR":MAILTO:info@dgmsr.de
GEO:39.5262383;2.5442666
X-APPLE-STRUCTURED-LOCATION;VALUE=URI;X-ADDRESS=Hotel Son Caliu Mallorca Avenida Son Caliu 8 Son Caliu Calvia 07181 Spanien;X-APPLE-RADIUS=500;X-TITLE=Avenida Son Caliu 8:geo:2.5442666,39.5262383
END:VEVENT
BEGIN:VEVENT
DTSTART;VALUE=DATE:20261031
DTEND;VALUE=DATE:20261101
DTSTAMP:20260423T005825
CREATED:20251105T074025Z
LAST-MODIFIED:20251105T074025Z
UID:10000313-1793404800-1793491199@www.dgmsr.de
SUMMARY:Herbsttagung der DGMSR
DESCRIPTION:
URL:https://www.dgmsr.de/event/herbsttagung-der-dgmsr-2/
LOCATION:Bucerius Law School\, Jungiusstraße 6\, Hamburg\, 20355
ORGANIZER;CN="DGMSR":MAILTO:info@dgmsr.de
GEO:53.5595117;9.9827318
X-APPLE-STRUCTURED-LOCATION;VALUE=URI;X-ADDRESS=Bucerius Law School Jungiusstraße 6 Hamburg 20355;X-APPLE-RADIUS=500;X-TITLE=Jungiusstraße 6:geo:9.9827318,53.5595117
END:VEVENT
BEGIN:VEVENT
DTSTART;TZID=Europe/Berlin:20261106T090000
DTEND;TZID=Europe/Berlin:20261107T170000
DTSTAMP:20260423T005825
CREATED:20251017T082807Z
LAST-MODIFIED:20251017T082807Z
UID:10000309-1793955600-1794070800@www.dgmsr.de
SUMMARY:Augsburg-Münchner Gelenk- und Skelettseminar
DESCRIPTION:
URL:https://www.dgmsr.de/event/augsburg-muenchner-gelenk-und-skelettseminar-3/
LOCATION:Katholische Akademie in Bayern\, Mandlstraße 23\, München\, 80802\, Deutschland
GEO:48.1598505;11.5915848
X-APPLE-STRUCTURED-LOCATION;VALUE=URI;X-ADDRESS=Katholische Akademie in Bayern Mandlstraße 23 München 80802 Deutschland;X-APPLE-RADIUS=500;X-TITLE=Mandlstraße 23:geo:11.5915848,48.1598505
END:VEVENT
BEGIN:VEVENT
DTSTART;TZID=Europe/Berlin:20261107T080000
DTEND;TZID=Europe/Berlin:20261108T170000
DTSTAMP:20260423T005825
CREATED:20251202T064837Z
LAST-MODIFIED:20251202T064837Z
UID:10000321-1794038400-1794157200@www.dgmsr.de
SUMMARY:MRT Diagnostik muskuloskelettales System
DESCRIPTION:Basiskurs
URL:https://www.dgmsr.de/event/mrt-diagnostik-muskuloskelettales-system-4/
LOCATION:online
ORGANIZER;CN="R%C3%B6ntgendiagnostische Fortbildung Neuss":MAILTO:info@roentgenneuss.de
END:VEVENT
BEGIN:VEVENT
DTSTART;TZID=Europe/Berlin:20261119T080000
DTEND;TZID=Europe/Berlin:20261120T170000
DTSTAMP:20260423T005825
CREATED:20251120T120834Z
LAST-MODIFIED:20260331T140734Z
UID:10000314-1795075200-1795194000@www.dgmsr.de
SUMMARY:Seminar für Skelettradiologie München
DESCRIPTION:Thema: Gelenkerkrankungen \nAnmeldung und Information unter: \nwww.hollmer-wor.de \n 
URL:https://www.dgmsr.de/event/seminar-fuer-skelettradiologie-muenchen/
LOCATION:Klinikum rechts der Isar der TU München\, Trogerstrasse 18\, München\, 81675\, Deutschland
GEO:48.1372756;11.6023145
X-APPLE-STRUCTURED-LOCATION;VALUE=URI;X-ADDRESS=Klinikum rechts der Isar der TU München Trogerstrasse 18 München 81675 Deutschland;X-APPLE-RADIUS=500;X-TITLE=Trogerstrasse 18:geo:11.6023145,48.1372756
END:VEVENT
BEGIN:VEVENT
DTSTART;TZID=Europe/Berlin:20270429T080000
DTEND;TZID=Europe/Berlin:20270501T170000
DTSTAMP:20260423T005825
CREATED:20250517T075505Z
LAST-MODIFIED:20250517T075505Z
UID:10000305-1808985600-1809190800@www.dgmsr.de
SUMMARY:13. Jahrestagung der DGMSR
DESCRIPTION:
URL:https://www.dgmsr.de/event/13-jahrestagung-der-dgmsr/
LOCATION:Langenbeck-Virchow-Haus\, Luisenstraße 58/59\, Berlin\, 10117
ORGANIZER;CN="DGMSR":MAILTO:info@dgmsr.de
GEO:52.5257295;13.3793453
X-APPLE-STRUCTURED-LOCATION;VALUE=URI;X-ADDRESS=Langenbeck-Virchow-Haus Luisenstraße 58/59 Berlin 10117;X-APPLE-RADIUS=500;X-TITLE=Luisenstraße 58/59:geo:13.3793453,52.5257295
END:VEVENT
END:VCALENDAR