BEGIN:VCALENDAR
VERSION:2.0
PRODID:-//DGMSR e.V. - ECPv6.13.2.1//NONSGML v1.0//EN
CALSCALE:GREGORIAN
METHOD:PUBLISH
X-ORIGINAL-URL:https://www.dgmsr.de
X-WR-CALDESC:Veranstaltungen für DGMSR e.V.
REFRESH-INTERVAL;VALUE=DURATION:PT1H
X-Robots-Tag:noindex
X-PUBLISHED-TTL:PT1H
BEGIN:VTIMEZONE
TZID:Europe/Berlin
BEGIN:DAYLIGHT
TZOFFSETFROM:+0100
TZOFFSETTO:+0200
TZNAME:CEST
DTSTART:20260329T010000
END:DAYLIGHT
BEGIN:STANDARD
TZOFFSETFROM:+0200
TZOFFSETTO:+0100
TZNAME:CET
DTSTART:20261025T010000
END:STANDARD
END:VTIMEZONE
BEGIN:VEVENT
DTSTART;TZID=Europe/Berlin:20261106T090000
DTEND;TZID=Europe/Berlin:20261107T170000
DTSTAMP:20260423T060815
CREATED:20251017T082807Z
LAST-MODIFIED:20251017T082807Z
UID:10000309-1793955600-1794070800@www.dgmsr.de
SUMMARY:Augsburg-Münchner Gelenk- und Skelettseminar
DESCRIPTION:
URL:https://www.dgmsr.de/event/augsburg-muenchner-gelenk-und-skelettseminar-3/
LOCATION:Katholische Akademie in Bayern\, Mandlstraße 23\, München\, 80802\, Deutschland
GEO:48.1598505;11.5915848
X-APPLE-STRUCTURED-LOCATION;VALUE=URI;X-ADDRESS=Katholische Akademie in Bayern Mandlstraße 23 München 80802 Deutschland;X-APPLE-RADIUS=500;X-TITLE=Mandlstraße 23:geo:11.5915848,48.1598505
END:VEVENT
BEGIN:VEVENT
DTSTART;TZID=Europe/Berlin:20261107T080000
DTEND;TZID=Europe/Berlin:20261108T170000
DTSTAMP:20260423T060815
CREATED:20251202T064837Z
LAST-MODIFIED:20251202T064837Z
UID:10000321-1794038400-1794157200@www.dgmsr.de
SUMMARY:MRT Diagnostik muskuloskelettales System
DESCRIPTION:Basiskurs
URL:https://www.dgmsr.de/event/mrt-diagnostik-muskuloskelettales-system-4/
LOCATION:online
ORGANIZER;CN="R%C3%B6ntgendiagnostische Fortbildung Neuss":MAILTO:info@roentgenneuss.de
END:VEVENT
END:VCALENDAR