BEGIN:VCALENDAR
VERSION:2.0
PRODID:-//DGMSR e.V. - ECPv6.13.2.1//NONSGML v1.0//EN
CALSCALE:GREGORIAN
METHOD:PUBLISH
X-ORIGINAL-URL:https://www.dgmsr.de
X-WR-CALDESC:Veranstaltungen für DGMSR e.V.
REFRESH-INTERVAL;VALUE=DURATION:PT1H
X-Robots-Tag:noindex
X-PUBLISHED-TTL:PT1H
BEGIN:VTIMEZONE
TZID:Europe/Berlin
BEGIN:DAYLIGHT
TZOFFSETFROM:+0100
TZOFFSETTO:+0200
TZNAME:CEST
DTSTART:20260329T010000
END:DAYLIGHT
BEGIN:STANDARD
TZOFFSETFROM:+0200
TZOFFSETTO:+0100
TZNAME:CET
DTSTART:20261025T010000
END:STANDARD
END:VTIMEZONE
BEGIN:VEVENT
DTSTART;TZID=Europe/Berlin:20260201T170000
DTEND;TZID=Europe/Berlin:20260206T190000
DTSTAMP:20260422T213225
CREATED:20251029T085536Z
LAST-MODIFIED:20251029T085536Z
UID:10000312-1769965200-1770404400@www.dgmsr.de
SUMMARY:23. Arthroskopie- und Diagnostikkurs
DESCRIPTION:
URL:https://www.dgmsr.de/event/23-arthroskopie-und-diagnostikkurs/
LOCATION:Kulturhaus Wolkenstein\, Strasse Meisules 144\, Wolkenstein\, Italien
GEO:46.555178;11.7556503
X-APPLE-STRUCTURED-LOCATION;VALUE=URI;X-ADDRESS=Kulturhaus Wolkenstein Strasse Meisules 144 Wolkenstein Italien;X-APPLE-RADIUS=500;X-TITLE=Strasse Meisules 144:geo:11.7556503,46.555178
END:VEVENT
END:VCALENDAR