BEGIN:VCALENDAR
VERSION:2.0
PRODID:-//DGMSR e.V. - ECPv6.13.2.1//NONSGML v1.0//EN
CALSCALE:GREGORIAN
METHOD:PUBLISH
X-WR-CALNAME:DGMSR e.V.
X-ORIGINAL-URL:https://www.dgmsr.de
X-WR-CALDESC:Veranstaltungen für DGMSR e.V.
REFRESH-INTERVAL;VALUE=DURATION:PT1H
X-Robots-Tag:noindex
X-PUBLISHED-TTL:PT1H
BEGIN:VTIMEZONE
TZID:Europe/Helsinki
BEGIN:DAYLIGHT
TZOFFSETFROM:+0200
TZOFFSETTO:+0300
TZNAME:EEST
DTSTART:20170326T010000
END:DAYLIGHT
BEGIN:STANDARD
TZOFFSETFROM:+0300
TZOFFSETTO:+0200
TZNAME:EET
DTSTART:20171029T010000
END:STANDARD
END:VTIMEZONE
BEGIN:VEVENT
DTSTART;TZID=Europe/Helsinki:20170428T130000
DTEND;TZID=Europe/Helsinki:20170429T170000
DTSTAMP:20260420T153809
CREATED:20161018T183018Z
LAST-MODIFIED:20171112T004152Z
UID:10000145-1493384400-1493485200@www.dgmsr.de
SUMMARY:3. Jahrestagung der DGMSR - AUSGEBUCHT
DESCRIPTION:
URL:https://www.dgmsr.de/event/3-jahrestagung-der-dgmsr/
LOCATION:Hotel Aquino Tagungszentrum\, Hannoversche Straße 5b\, Berlin\, 10115\, Deutschland
CATEGORIES:Jahrestagung
ORGANIZER;CN="Consulting Healthcare Hollmer":MAILTO:info@dgmsr.de
GEO:52.5270875;13.3847291
X-APPLE-STRUCTURED-LOCATION;VALUE=URI;X-ADDRESS=Hotel Aquino Tagungszentrum Hannoversche Straße 5b Berlin 10115 Deutschland;X-APPLE-RADIUS=500;X-TITLE=Hannoversche Straße 5b:geo:13.3847291,52.5270875
END:VEVENT
END:VCALENDAR